Package: CTexploreR Version: 1.5.2 Maintainer: Axelle Loriot MaintainerEmail: axelle.loriot at uclouvain.be git_url: https://git.bioconductor.org/packages/CTexploreR git_branch: devel git_last_commit: 64e2ed7 git_last_commit_date: 2025-10-11 13:24:42 -0400 (Sat, 11 Oct 2025)