Package: scviR Version: 1.11.0 Command: /home/biocbuild/bbs-3.23-bioc/R/bin/R CMD check --install=check:scviR.install-out.txt --library=/home/biocbuild/bbs-3.23-bioc/R/site-library --timings scviR_1.11.0.tar.gz StartedAt: 2025-11-21 15:56:14 -0000 (Fri, 21 Nov 2025) EndedAt: 2025-11-21 16:00:46 -0000 (Fri, 21 Nov 2025) EllapsedTime: 272.0 seconds RetCode: 0 Status: OK CheckDir: scviR.Rcheck Warnings: 0