jyk6GR\{COwFFk5ވc{PRtE6qmҼ8%I`@r9d (L` rXR B{# oFSjJIS?7M6˽'Qvl?w% qTQCjͰ_`Q?=k#^)M%~^Jqc}5CzS-&ڍ 767䊱@SI8 L|EnW Ո=+/#7'zO|kQAD-ۉgЀ~@C~,5BH8jiϮgWA( 5Y>e톓1e׆yk (@C; oKb[PXSHR, e5F4JlIc%E6 ǫk:ot[h߀G{#x4$[i]7z#s0"= f0 !%F߱4;zEfs- b$glc07cZ>S.B" m p %M*6\%A@7,:clƾi5'f&SYiUMym>z 4^}q{lB *hX^/@mp>Cq*XUJEUm*q,EI4+E-#v .!d*zG$vh?,Kl҇'tVh*zQ;ͳ3 3%RLx TX}ILx%8n:v8$@ד\ќPu҈= f' X;%'\^Ai!L|hNX7\ 23ӳ]AP cPvˡ61po@tG.Qfr1 qy6SbRP-#4ߚ>tXV \*LE#=3yrᅛkΡ8[1lX; ӥ8l3b%eFn;1 =K,fTh0Cӷ0t¹֖eVl-$yZm6P#ÖLXe^UVˍ/- ^R}} )iJ#7Lh५F4UQ <֕W!p^–*9 -!``teJHEk|C Gp 3q(j TEנ+R$hXrtDphJu8,f*b?%-Q*#^~med8SӫV.ׁFAh8&|*!zf|oXf#+kZ)lncC+r_9GwkaN\6A{ZJG_Aw5JFB dsw蘁Z ij }U-.h+U\e rm6ak5:?3zc 1*_&/m^{R(R:.8Y ;Z`Fc 7k+rtS !0FjT7б<;8&C007E*=m(?(S>hh@M1֐*O6 l^f>l.}1H *6֏B ߀yl8X d6ǂ,GN?c8L8`%FdBR %–887~Lгe`fHL=]3+:[Ր\cO/e[6oK-J7YZCS-ʊ+#e1rj"~&7|[z߂W*z&۸6lls&YX^XxN_$DSA>}G"^%wA:!G +oocY=d[`ɍK~gemh& 9P]Zl}϶"Db>̎`.G}<+78_:WSry17[rmx|s?җvND'<Fw K K V_ybp)K -%oBKeYp)e gY),y+JIMS}BJ`3Wg Uy.ח C˵2f 5\1S9)M+)5ze o&SxCop=F|YV/ٞJT"< yUmZ3eFz\],5-m\/#GQokk+P* ݿn ?jkFonYx'5?^[.grfԪ7*4дV~UY_E?/].ʙoڰ56k倯ó\`h_^˾°c2 A򯍱$ Z#v L`Id+07Û@b .XJe,0&gZ\s &1\l>~Kz tji,鉸G#ZҖkVR>2 GOR5V忢f\;jvn݋srIb[Y,vOj bu'2}ܗvEr*VhrO=f_#0@dL290҇AIcl{=o _^0@ԷY7^NG_yHpg&É5 Jb!lڪ!XF)VW"VIV & 9(.9ġ0/ȇAg b y)q<LT9(*P(0}ru;ü Awv?0 28|9GZm+wr@z>6VMtT L$+hi8fd[Cx?:=86'GrP1Wk/1*Cf凙,5sQdY˘%?}7aTYU'=!Gݸ͋u.ۃa$96-9G"G(u2CH\,РDa#T,*'Or9#A|`?w;q ~ $~dI88M"Z)\d&aj~۞sUKCAE z]3$|wd E֐銥y@>Ҡtv*lq 1NSKߠx|'Jd4H@k@[ UHb<#=am^ew7wD'oWVC~Vq-Q!ym}؀wۄv⎦.µ9+",#=!צb;%/?7COhSZL4p:k/ ,ۢn9EУtWkx;{bn_ٸpԟT&4])8²4!10T,5x`0WΧ#x hg2_3z-%'uĦj?efZb2Ǚhk#dl<VћS|R\dS eu:#Vrk:`Z2z`) bkՑ>C'7l?weVXˌl[ ?7[e=/ QaM’?J? R_"KUDrfSɩI:ש2fv/B b>Vs&jI[s[zxg_Z W/T?zRfZcoBt_%>Qcn8<ÆoEXm0_ _:w?۷{gݛ?ƅta޾V1gG PDWg}.:S <U/YxczxV`^Vg6N~"'^ϤTbB{O={d3g'ye Bdc٦E+@^L yC &'ג?:<x4Cd WD@ᩦ5 g'yޠj[l̶%%x3)oDWN/yZOeod=s^A&⥌w^\f}vKJfSRb񼤷ٗM6}+2We\ٗ/se_ʾ̕}+2We2/Cq\\vgI l&q=+GQF憤WqT: fd̲cfYn2yq7rkDH@~yMJx")R^kz ۃ#;]&]ۄ9 zĔ9JGرxFNIKu;q}|]E暑|ʂv/y`mit< }k7; s-}th;fQ6 UA;mf 3Jcsu:p {B@4D`i!pEGLK=7Yb:M@TS/=߻Gƍ>c0`V'9q]x=Za̮|Ka( [ vK|b-A7Y`ݟ:7 t,Y%XWH=|˚# gfvv @_` ٘4_g:cG3XǼ5W,2;b υ#Ce?ՊO0>q6X8bi\8 s =2`hC -BZ6菿hW~ q'񭸹o{wd&hϐC7[{X=>s[{ߜ{?^@]_P tq Ņ&1\č\-2= w0wk:̎5m) Qp='`?A $r5؀HČ2>g^6-K_1B n9qdI0{NFmpDG`$a'3pк tơ_ ҇;tXyNxYہ>o (צ5v<:˨Ⱦe oFFLwuy>9j)Ê K_Ra׆_>tb9Pmj5TFh=7d43T^օ֞q: C`2Ɵ,Lu7\ /J0tS`68676oiMCxR!w5b$\ 39X_vhQH r9ddT^m(USt^ؙ#O $p] ݝf[9 v<6滦D& Ɵj(]KOVwdf;J35c)Ne 1<ϸTZcX'g\O'~'<|*RgU>Mmn} o'$:N")!t1]P9MóHV 2E<gH gt{1OVRZ]Kؕ#avCЅk2&} x{CS۾0<7&Z&ܔyNAnۄ\ %-M].jNmTg|ǃ.zkvרTkD]H1]/ÿL[gKȫ|+NaĄ v \? 1[Kir[6ȀL^_O#r{o (.~@1POoX%K@y㏂&h6Q9fhu%<ӹL.[ i}fJE. "ȍݽdXڤ:m9p쉓Îi59 6i&%ΰ_R8(3>q =V<_ї׺"=/ɞl(*\} Quj7~XAa~ gXEsߔ4LH+fsϥN7u6unv^Rw k/ I5ppeEG~qƃg]&r--uƤle's[kvVvkB框b7F!e-HKKJ~ ҐRS10lؗA4#@=y/Jy1sUƕW?hrr4qA32iY/Gc3}?2{W=6?^&2z^E!?]= iq˲z>ڈL% Rn-ۦ&zpeHHlͦhȝuйA%$Ng ]HstmlJT'D[c'˝fJm:$UJ&Sw⠘D\z@{-qCv.xmD`k d0b‰$ }:bvT`^Io|m{.}L碰Wו XW*=ۛ ł"nnOjvf|vWKuTg TRsj;s\zR#Џ5XK"ʌ_^5GAQLS]T%jI4LɓXGS[oчCЇV)G81_Bs<,Fۗ~ Ax}1>ȹbnЪnE?BJ~W$cPrAʼ[<?1V3Ĕ 'LQ)̞iyzrX;ܼ~0}z$E˫.=k{MD0$\ȣW z!z'LeAβ=) 1:كEC`%G?c8t_stfvJo$#v@b ݓehT:}F!x{6K] ޵Y6WRb܁wsۚ7Ԋ}s]EZuFLTb+b&7?Q]eݶUhԮ}x3BbbΤMn{?3-x:t:ZO^wi~P%+,@U<+UVboYEZR.v V"^"+,~{YhtmLr,zCv\ uD*,/F|A213c@kn`Edϯf4oH3EAE3\5djqepj*)fjss qc ]=Ը3Z4U[Q;9Z3!Id"RjAUY $ʋX48ߨIxx" 9<&F8R8ik8%8qRPqR`qRF4 *b,(FbF1s(%2NQf10ܡcF2U<`xԽTF05e*Y/3 n {V,-=)ؖv1赗cs12<ú6<|0ݛ#/9sO1C!i*0 ͚K?y2 P i!pR$i[;0ɝ{dIXkё0Xϕn_}T"{rс(¢ݮ^*^|fk-sr4f]KL7;15Lz1Շˬ>l%DSSؓk I g|i& A怢4fpseA1,\s%6Q]|HNɥSRJ6`Y"~DLd4p# ;96Z t\MSSeqd D_WjeB(G򱆕5x& <ӻG;X GsVpͭ&‚DG"AD F "0)b"[G6-RȦm({N0߅%\cRrFŐRx_+m]a %$DzRBka?MvP&â@­ >!)vƵ kscIMK}nD!Mf.h5KOUt٫;:. Ҋ  MǷؐ;|!Ƈ*/Xc?cF(cbti0S&ϰWqʯw*О\Ccuӌz l|FY+6eaM~׸M>E=ɥsǝFF5@e&0KLUbBRJwkx<]4}GKMswV3DF7fGgS6=Xt,FX>BgW-怎5\  W U3aG6%OpU#0BI@~kߗ欃"xKQ&LG$e5^Ϭä(6Q8>ܜ*Ύ090DoZU`$G&k|?C]/;e=kn:K$^Y0| Q? i0f (pWpiyd`F*4L ڲ%be&] Rrqz8͔I<Y(#OǰLmƷ,ْ%뤐$&zn _ 0oypj~p-yu 5 LkJP@ OCgytK<#S(:((((R얏B(Bl #9Qm=c"A5Y|Xd \!OQUbI!@D!@D!@D!@ $dcQQQـ)B|q)MMiTy9F ʅ R9rqs= 4FtLD018q~Y=7S"=O^00x ׯj Hn*^1sg褠LR Vbdiw0c `bn LGyLP(m;0(dډcB?ȂBBBX`LE+@dᰖIdV8-Φm6?B5>&%\IN?2EOQU=3!C?C?C?>lv"s߬ Qoc6JF &`B &`B*:Wǝ(&6E D<mP Àֺ65?~aBvoQ.Ȭ-h_.:6j< $3xvXQg̋ҋx R;^sdw=83)Vkku}֚Uz0f7P骦7qOi%̿jb2m#R vXC8m]SP@H b PUVuHV֡0 |E' g'RS#T{>ŭaȶsTY).DZ )@ 'èvEឈӹ~ xsՆ~Uސ= ͽyK8IW EG7,\dhG:F. Dq^qޓ^:#ED&}t%[\E\f߽9E|20ΓV͓]5h=F(oX{(A6v5!˵(c4 fZT#/GAW൪"7||*Qw,r\{v[m=wQEI}%h,NUI]T rvG$[!a!3GEilx&l %~EI 4526( x H%LIT2bWʔ+߻Aɬ1ZY@0I.N _EP= gB& 7q,(6Y2I|fݠ+&CG ܴw~d0S&ǝYV؞D>1/2)X~.$ :E׆o{Qk{&# 2Mch2U k h?q4X8#@4쇡1dGEt4w3 23 G9Dʏ(d@OD7~|+n'қCĕdC!>Dn&0({31rsoߜz`?<3L$ Ed}fnPm*$9E\n툞z;In򻾙7$@v`\E0^`W% ߼2$%%N$%)9~N^F+7^2^ ?z[YyD(2%M^enŃYz[ Gr$T⣨WK+& nrWrVpJ])G#)K$~3 0~mh\[ձ#J3ԛK-AL%FsҧwNLJ1ˍPǾLl\]b>k.tbz*:Nyz3޺Fw%hCP+0_+rZT3j>w8g䚄JJ^ Bs2Um9)y݊ Kqm 3ĐAqMUTگB3%L ⷺN,1t԰NpTW" ^Էޡ^2!%ʫR:HR;A{ *h cyuC6 %J}B**c$ +86d)QAvZP i6i5Ydݮ OYH꓃A0F]7p$]'r[',)jUzX#c+y4[rk8 Dx (1cW1қzr^eSNo8@˧D <FR2 % &kt_zX9??zKy֘dVEDD4IYa xk#I t]^hZ6V߰Cũ=?|r'`в zgA[ +c8#{DF m$aܷ4AxCS֒J9L"D-+íBSx7Xv>ˋϠD xҴ$Dc"Z(9wιFЙ9M7l<0,vE%\o@Lˡ"*@sU+: +~i<ʋ\ X5 @^wTZR=nIOZkhO_r2n`̟>=XC,|;'|/8üT.s SCME@tޫvݶƵjUڞ}=±bPqnN:rk̒cv +ͮP?3gPmbGe#Dt JTyP0yTwqr1Q-˗11ĝZzyMgGP (HPsh2CHY %@J %RW!vvIa̽5PnDk!PO(VkvU$%7QjB UB *sb_%Kq$U|*KyѯK!Ul{_W=ٯ(DXZ!C-^me9v|7a? .N}Ok@_\&KE`b`>z!:_Ƭu]h#\U; b,7jPt{LSr}HZ=kn7[b%)vG6mhVc ih}.ȳ%2R{Wm]Z%YRLZ;qQL"AphsO tqrIKRz̑AdHbq Ц V:Hb|%4t]3L˰w=テ7 c;{ժWosVk/ f݋Z1GjlPT}^EifDL 2пdne{*-ω 56%N/_~τ^tO/OS`rab?ȮO=-Y).|^b?0;mpm![/!G_їQ,uڢYb!v5 HbàmUiS-H<X$7\Ǻ1q=d]3q\L@۪Ɣ䠷{=%ۊVu!ж:Kw{]ᙧx {E/~K=W]]_e\{lfYMY'hi$|j֙r@ bxH}Q~߈ zVh#ԑcS#||5s Ih[A M065~Dzoku[[$I|fc;)^7>nX]@˟|KG; nWX^9|%<|Ebp_.3%U~ON K~Ϫ6{(`"JAgO-WY:g1j\̀ $| ^˗j{XBEJO./<\t_/#.M+/O/ކx&fVK7zCk֫ui#aɢ}++3 K7G<'*|p13|ϵPOY(+&42I< `eYg}_Cfѵˤ~Oh]/OS\BQ!xvX/-o(^^_ô/_?+oXmY XojVMM%j t r$=I9(Tr bAAEn zgNR}yD㝙w̛8Ɯ $^C~!ܝ:16BVg ϛ% 1Am|[qT-_>X %uc6z_ # -]R@t)_[ Nwt6;%=挲B-\PX.Ԏ!ҵL@׃|0SCË  Fv@oy>BIu;4-j5^vֆmS74Tgׅ)L$]>Y 0`\7MRq2(0`Iˉp7*`b؂^jJ`":lRΐd0hˇZ3 p6 /vȟG8j:"3(`0'qD-'WZ`Z~`ӺpN]c[z`}CYD@fXJbt!<53MiMR}Hi[RLicUJi4R:RPa KgI _q4蓓es;Ld(d>ۛW i6Mrl./Ksx(VId8#,ū4%IlxS K)ܶj)1E1<ҹ#W<;3TͲSlI`0q7 Ar}>-p h)/'S!%+3J!aMveM!R"RxDJu)+N  U"ϰjH^"7$zKdĭ:4Zh`y0RO4FyvДDكBBK'b Z!c\JђD3"\@ EkaE4q5ъ\zRD8Ȣx= $9Gi,]*^J{p1\)Xk<3k8tRRzҀ,}BZ8dl. ly`D:# q~JCp)d7n)lyI SësB^FOH:'=<\"S+B" Ҋ+`Pd_h?JY0:p].G{r"%2&x[kDي@z2Uj!eγˬ4ˊ) /,NSVn*Rdͥr)UYp ^L0]NAJ$0ulsi@UM8I M @ xDfݜ_*hQ|`< nDyT@Z`6,(!aP;k>!=xIUȆxn+Ҋ,I85A7M^"C,{<^qK q%*$yV݃.%RG1)y* bIq*<ڬgu KoGnD7扗ې^%owaHǒe࡛Y!+zgF|C ^hA!QŇ.̆&BH,I:YE D#W8g6, cG2Q"pЕ"8Qv:\-,3rTz Cޟ K_!9)>s37R2>s`Z /&#L/DRFB'7B~x }bpe`r0$"$~C4XED'<{Q/2Z )2.K, !CzHN %= J^)rZʼn;_sx J_\b̳Q;*ȠaO&fXJlTPm@)QH8g% T0"aDWfJ#F%q 0(|HL4ŒeR&3KSмq;ق&}`HG]>ltTJҪ7,{$A$dRكJ! SqP`Ru@9٠ str.ܑR T]g= <.Jk.*1iƣ0 Ro6V|,ڇΰ&'7Ԙiz#Kt?{}o6ƍ{\O'|RpٛzGo+1.wNS_Ot-n=MiC+/%l~gPrw}߄YRsg~fӑ3)-k v;6=ʢW}ዳ9n_Z;&fб޸̙ECmpo\VAClqnN5Hkh4{\tsV ڹ5-IklDzuѭ 1Ɍ+NOiJnJhb67zqzFY3o#Gl2hѹ^3F1.{0w~fVnC KzliEMMa|㚚y˶^0fLũ)+oڣㄏ'͉k+:W_~_2<.,[Rgw볖vŪU {;}bZq~Pㅔ#6\ѣׯYِoorAk_Mm_vuJY٥ׯ_sYMvAgN3}OM[']+NZR0}}v}_1-ono}guw5uv='Ǽ.zb́Y/:y7zFf*oWYZ Kѹ?֝oK[9>uuoD K_*{Ypf@Nw a7p6u5fOjv{#5vܴOȎN=̔g>_Wӛﳍ2n5kϜy7Q|Zo"?~Ç.N{Ů>K]~bֽJW]zx4l̘1=}zzjݜfi5:fiC캦wt־pfzqpng3z_\Ps~qf^鷔d[iX^?+MLԾ:tQ]+_~4ZϾ>Ǯ^~qܹtǎ]ed8_'gYU{6WuKtݽ_h{~ze˩c^ҔX+[\T3 o'&>w*lͭvο}Q̍+'e)nrƼSn_ܤ/~ٿ/0/?juS>Šk*k~^&n=?w6α= ׯibз6쵾ڽήr <5=|Ti vwOQiii|{%So :`q׮]k}5k,.ywI>?cƌڬ7|].3}ygiC ?čm-C^O~M8HH杄x͂qq,_*O߾W3ۜXW:mkxVּZmp,9ۤ愄8qÜKW?oTWi+ct=xLs~bOۗ={vΓP9 ̵X_\uR)#ڜ_W0!ß|:5cLoo5u~{N xܪ㝃fe_7QSL=(VTl|>.sV=7?SۋKr.v]y S>>aR׋94ʋOn⺭K>OBogl\Foux=ڟ_e;5ꭷqkw4pMjjS%gN뛸qT׹` Y4 8i ؒ]>,Y:V]6Np֣Yi̲3lCCC%qB)9q|ڜ&rI '9)Sh{ߛ]}`v}}w}Ν;zI!޾#i?ŗ6>}a8 E|?>?gǹ>~O=6b醽{~f_]w|vg&3v})|nxMK_~лC/}K|Ԫݟ8/p=tg}f'F?9v{ { t˗;sWf<5Տvj3O= 7VǷ}`ױo=h:嵗#ϜZsa?q+O3uKwO?#[nVG?wn oO8@{7w% 7/uA@n\u+_zXqݏ͚ =[?sh=yW~{lg7Q6kg}_?˫\o]Ƿwիk9y.{ӝ_}ģQQ/Wnc?_}Ց}?B&ݻo>[jYvߠ q)'/P8CZO7 %v_?zYH?zr`fYQ%nBhgdfwN01/Ji^)IjFGaxisC;֒i$N*HoT*cH1Hm1:ғ Rku[5` Ŷ`^K)}wE {JU*M4)BkD 48?#.O&2ܥň>9USl7רn,6#uݤ4"0͇Z~X/R=/k`t:\Xa_mڼ׎hR[Uͣ,)* ?7d_"D|;| Ţ\d![*Ldɸ\A:H,я27.F) B;Q&p~8 >dF(]".IFSȄISO1ζvimce!Fc3#Lu%' 6!*5ģ(}-%3t#9Z'&fJbhidSQȐS@%&'z]B#KY?3/-[Qr- nd'd @3tIV(@o*9: LJwH")%hj8KGS+^:c׆sVlj{L5U7)IoAVɺ: Gk k^%HM~GZ# HvLk֚~եuݺݺn.BMAUj{l"kФniÏ< ߦ ͞ҳ90!c1 >քk  8Z"nQ%CQb4 qZ H1fW`xzE-q|xGnXV| ebAEI$*_H?IC6:/镕3eMP@yL"\v~CiSJ{s[CI$PFLs#b,**INT%f_sWSP*pR nģ$?9)t٥ɬi҂ۉFS]л>Qi?-q D[C+$8vB=+zg!N'gw@ܓ4<~&"jnn=pv(V ͅ'ѓe$WN'#`d&7!cTQL B&ܲ$mzD{Q55S2%A%T@x}tw.k##Y> 鿶8qeT`5l jO$ei iƣ 2auU?:~X5x;<= =) [[kFG:KF ;!{Ix9[¸?*ywy3 ( od8yEF51eG 8AUyt4/x%uR_3X G{p8GJ*ʥEbiۛبƧPE37nfC%U@MS )]bIǍ2&Oet|Y0JGCH60;z=\ JrE'Jv0zѭ"?MY vA62H3S+h.2\<[cω<N}+i+*tTC5s!`DV< -֓fuQh*&ס`D)NM2/ ]Dlh0׎J=BHf|+(8i)S R NYP .WЕXJg>2 8Pf@R~@谼FESuV!BC᭯PEaREP]Rb!e]zy܌%J-L-".L:rEPYJ&x3dH;p'<0}zed 5/L7T / تi4 IY~EIChXx^gns]pv_Jq֬f3b 1g5{+UPز*Xfx%%SPVK&pg2àٚW.*(?&=g/+qj~OD"/SͶxV0]o9H1k:͈ʥ9{}m@)b7nyyʎK ?#q :% :M,4Ax32@plp$iR%f\8d蓢"ⱺ|GZ'1;ť*4,:4+/ :B)yRyFb^x:F3$8aj<^>~U+* Nɐ7W6Ѫ%W nk2CB%΀#dZ7G]k찖0l6H{wjv3pwcݛ-G;=gsԫŻNtN肮R|D4.*ŐNtNkBrc4^-v wZ4QgY]ܱ#z+lbPQyt,͍IsV8'Gq]:grNl8'(\Ւkb;{}v ^_VzKK$Dj+/QH]%<f('/pBA{R@M,N9>plt)?S+Smn*%uZ퍩{S"5@8ڝuzi=R#rxp$4}4Юvayn]YZkDVUyYOÖ{<9DC'fiBT\Gr@7d;=ueEϹaya A)('1VT+>VIl]Y1=9kNp$IhVUV.e, YL&!T񡘧"Y&$}{6%u8{/+cPB<c0puL_[CE#>iz#j.bp MtPP)YZquyu lw6j3Z)Jj:DjVSAg;A4rW54H츐N/2^2&꿸<|;1ZAcL<+K~erg򖥺 `pgDYvjט*¤$a)(HiPA KES?K5Zs)Z>Lk8AĉhBAxAʊh542<9"NYeHzp—|I1:ܜ#Zg)'(,?B@p}G !2 2-O%lQi|xo.:]=F cp@^3/Li,M'|y1'4y@M\S9gހh3cJRs?2?CD okiKINRboϿ |~dww3=!P=~Fy{3Ȟ=UEƗ1H?ѯ˗Gw3G9o4`oIq0C8X5 0_?@ )+W o 7o gio 7ߟDG~,gD!opecO 9?zA?#+7, :dq+m8c56Q Ux}cۻ3>o 2w>h%|ʀ<1Z ƈLJjhjp KD0-":uT8\[>+EK WKوC~K**Vt)]{m݃(Z(Zhi0HO$rY.+ F1As~:o| z#Lõ7~ `l#8{(z­|2|G/H!EZTO}|oCpi"$F.wH8տϺf`Fۓ9 gH35gӔs7QԎKT?YQS]ԙ$GJ[L-qe9g WjFKtZ|E3;F#f*Y09sOjjIᒓ22vi vnU"jɾ^e&cM:Lѡn]DP=8ߥX"W؃>wLC}v'͈ =%;w04p6AE :8.I)T(n?7Uk UʋʟX6Ɲ! j*<DZs'[$C /fOƼ%G)gzMVL n\kG$[htŒ[EtqESKudP.ZސhEf \RE?>lbSڇkfh9+UTU` *ZZkms%Hx X[ ,#Fs%2 V(y(ej. ᠚)g%f<[m\+q;;Qi79->9DQ)eH f8ewhUGYjvHU֟#R:v{)WfͻSs O&2tS[=H W+S9qK `=mMDhsl)ʻ7}FZ-#yXn'F u;-)5r M@voǤɐ8קGEC@[ $G%x̞WV륟r7,jKBs8'ggǜ}`]rHt -"瑀Fcev :WyE^WmN)|w(|w{ =TdW|8pFIB/ ,XrI2Q Ou-\Ϫa,=1VF ӑX ~\g ݖA)vխP !PeZĸ]Xp0ં0~wbdM{p#L=4Rn5~wyᚬhaaM(^+.SuZo]QRj[k@ 9ypUL#͖:f0؈iD`͘A#yAm|BK2YaʾcHi,G0Sv-&J\#?S7ŧ7uW)MFpxaG)MU:n[t Dt|dliɩg/Qopux07Y^pL5aU1gAw'N.U6+cW/J3lpE jfFl eYbFŤ5Yi9t8=V^DaB*{D+Lӆ4Lu;ZԺ, zR]3 BS#zbMWzҗTАTv~zc"~ ;f [GgYOeMDa0hvzD -#HT j1WT5GvXs, 볳բ$IK΢L=@>R~W8q]=Bq!\ bCk#Pjq]"^ ]tyxz[GyOESWjg;0d+ >FµvXҲZj by"S$rݕ #InTм %7BHk8& &:q17babL$]RNb!E>85PC#U*b~$$8Ss@6ܱpYA|O$ yNtCB ,qQmkG]s"VڝM3VBKJ+Ԯ0PmhB%&UUfR z J'M<ۆL'm[|^EEM"SAt +/+/S_7nv>8ϾzYEN}^P! W /HK yɐ\<-)Vc8]%S;=k{@+XΓSS f: fSCCCq—!:cnX糝{\&w8Wjf:M:j`|eb{Lu4/v%S?X)5mő{BZag@-n!'zZ.]B󑰥g sWEcM#<%-hKGf22~~5[lZ0(Y)DJ9a1`ziQPj9A}/D5l#dQ *MΧNޟ qhmɷW5E07lly`ll 0'[,4N H"MtD]!Fv[d P$ツ/],f [Pݏ9l฾uL'93ޛՖ&Mw=RZE  M4/遀RAP.EEAQKNAA"(_?\M/,3;+~cxoUNkؤ.qi]x:=!MtWǨ~7C'{wL߳rA)?!c"'>(?gk%MȦI}K.rK׈xۂ[<&#OuB ߽-ޤv^yla['M O=H}ʣ =n_~9YK'2cAߥN=Y llNqY}='BY9r?S[lQZo1y=])zNߵ|7N4!15mbūϘ~Ĝy Х0xcVE_>o?NPt̠!*g_S_v6hhɂY~_73(iWg&FصѶGi]ݦr#nxxX/B>1Jl`\Ҷ.}>|rVsQsѼY[go }LeAoV֏`BdY[yFwwx!.9vdbIIݺ#laOd ݗg_Ӥ͉.T%'_ζ/,T 'h;{/٤.n ġOX|y'vI5uim/{^c'+~,C7~xnL838+sv8m׿Lhdǜm}ʼ"xYڗw?ptա*l銾}[^MZ͒tj?86=bSWK9 HoƓz'N\pbٟ3_W8pk/.9yȤ'Bv?0oy7Pb.ZǐScwzʹ1WھSu@s#h)7UvЮ[27^27.gNg_x*a-'J=wBĨOl.\]wG<7c6:3bTc,o xB0 C?fn=6#&,m=!f+ZSկ{^͚rrSQL%5iO y)z~d_Nv-Wj|EΥS ?6Y ~-WWzؐ՟$t^1vwx/7]8as9Dǎo=W,tdaOlwJPѾóNɯU1alvx۾fg5]?zf{;=ݩo!~r{?cw/3>x mAv[cґ=ґ_sd]ZpW>>2Ydd-o~Ғpg~skݰR;k3ۊv6YMevڕ\RJᥣ޸(>9`W-zϯr/|E˖o  xҥLe6ŧs.]N9+2s]\9b͈MM _>:LEEQ҇^oп-=K[ٻ6 Zj{ImzjjH><Rks#1ßtJޘ"-朿4 .:cJ[MvaZVjǥAvN\|ꁝ1JŸe*ǏGTLg ms/V‡w5pρ-m{ʿ#{}~7ӻC8rps]'\u뷲.gn/9n0ZyZ#,@Xx =߯o: ^Ґmϵ5 {b]R_YWzrԶڌ=1l#KeUv G8QvrdS3T~;и[KKǫ۹fͳL {휊MYTTz̀ {^iآnAozrӐ z@B3lʙ!eCϥ==Y0mHEfo)>b;ӥ+JV9[@=I=->,?0T :kl~3iTLҢec6?죓gyݹ'/Z+z]t3y{+|~̗欙1C&}땶>OX~}k{3&Ћ|deF?T_pYeU&疌^s1@p){//~`wDj3y#'oQ.jft*ʾ"0Ss+vi'$Fy __gjsWndg[u?__5?QX3?̚QylIkߐ=8/Յ_/%uLĦ]l^?~/W Z9ȜoЩ.;~dlSӘOnZictG艋 cd5c:}ݷ}v_"R;YlDek4c7 _-oo|~%xOOLt;u?ҩҾpɺtߧ/vJoD J~{:]׹sǺ*^_ܷ[ǝ[,;n菏|%[tǡ-NZ:z_A3l /ۻ;io2M6oᠨd#OZV*7)Wٳ?];iɶU3p}J>fn[]'m9: [K~{UՕ]g_3Ȅ&=(k{V-/J[xD;7nubr߃;6f-=Ł)Oxki𝆨-y >6fhMv뒕Kfn^9 S}Ҧ7o.h1QLƃLgowbs;:wl3OE9^:ae|yuS&wF=% -?P/K&~DG2jy|w5?l~/eG79HZ~fDOM2qBĺ p+K;"b"=qQQ2͋[wKBY8(M5R3Rٙ%!5NҤũ)82Y۬^*J}gy庻kw?#Qv'z 5007!i<0d mGiMub($aH zlZAc<=3kue$r 1O8\DX6Lȝ+x֌VB, Jg,ǯ 7|(m>p~WIG/;o \~B#$Vȑp,S R8w2P f]V-zQu$ə ;ȝڐ!ix9WZ& vK0xYzr &)m ^|Qna3WIf֨̐隷g&5]R)]fW tW픂$4rF9Uf .5(V516h(I@΅%v1(h"!а8uPEs`cFL|ͮ5=3Y DBPS Z{~d 0h;!y,@[βBFUhsy97S8xJ4P6-XvM\ 6f-"#Ygc;;!Rm*rmcJŖ&Q*!% Ά֨.Y M[΅qg]Qzhvgy)xi^&HknZsn'GhTW`!r?CkBh,T*KUdlPIT(M&.Ҽ oxD8Q5dN L4|;ID 51p6$"(hMjG'`CNM5 `3b"xTSvi$VW"q([Ҝ\U$(pgd|)F[g dj+m6qLI=8M̢ Z?Y$'Ԇb[zMͧ6=OgLMb4$0H*IB hƐOdٛr\1Ύtq5L5ih;R,vJt @EN􊤂Y hA EAJĈwQkƌTokַCd21.N[d leK j 3G#e׉a6gl`IL)S"/ \+,2\lh&Q٤gJږA$%q=`6ϟ@m?T1C$2Q+HTD]lU@eɌr09 7"C dbI- CP#ê@ECB)ǩ,2(6 E 7hI2| J3 )2mPgԚ_mT2?eRoo\íԓ1ݙ4$8-$Ə~}>{#o`uqt5 -Mkr I@$:(Z,N)F.bc;JU|!=vJ5j/ ،]WʏtyZυy}ߍr+VYƹxjxph'kwX9.F vPhp1pTF%wcs 9}>`c1|#a!JQqx@y _j4o(WV1U2%B.bКs-ȆJR pW1C`UW(םO,W#UGK#ezJ+"R"T) ;lsR$o7HÃkX/[}>9սYrպ#|EOL6 :l勢Xk0[gjl-.ZKVndh e"2 P>6 K$-FMdt^%x($xþo^Y"6⟞X̐^ɾ[eVPT! %H&YK<Ǎ nԔtLj2 #ҴMȭ Al :R6h9`|̬mt )0@ 6 j be` Ci?(BGo21A,}Ս6I( ӑTgB J'J@m6 dM=_.Gz`3F>MA7'%ֱVmCYD7vG[t)Hq8~i`@% fA1w'M݊$ބ$nYXh! d3cC_UU2yrYu,ro+N?_{7 $W0؜͆5֑HADzS9 xD`هTߑx$;IdvsO X+ 콪{4mB_HM%1"9$HÃٖ4TnWr߼ rHc NY(TiU ̸a1d)FZ(haLرƯVJ1PЌSl`hR'XDv(Q{ jC FPQIdM*<]W '\$tBZWF٢&' > .H١DӀЕyK%eXt?9ʩ3ob{S 0`X@xHod¯RRSOXfH#OX|q+] Qf䰤,u F ̪DP"\3a0D(~ F98nYBkԚ8[56"Ѻ)R9|Q1DT\[S%sRfv"8Nk9c\B8en+5Vq=K'*v=*5ϪuUTJt:Oclcs od 4a!7>.-pA/Y5't}cgVvƍp PxV8A𭺤nX`R}n(oW[ÜKwgӼLQ^fùڈbXZ/~l䑈đuHJ4NܓY E"1bP◤pdP}eH,hP<,REF;I%3|ח-dDHz {&aiS3lbX¡T2"?`D\%2"^ʿ+0oɈ,kNބ*=7 "烢kV]4L!b*k$+y.1%i/!4.IHb46Hf >iabf:;T 8I5?X{ņw9sUWҦR XA{ ph "1nGssES]кѲ@`r69Kp7vuNvk{MIT໫?4;zVV7GZ#eυC#i98\,AлPŘ g|kXx里Le*HHNB ݊W'r=JÜ}Ɂ[h*clOJ' qn^9Q"Tұ6"#6h}GqQ w(.Q\|Gq;w((n(i\qE7u7ޛnEDFy8-f>ٷͷͷ6yUj2?"K;4üBDTE&)cBgI l N_?R THtjKH_8wTaTТ/Ȭj5oEٜo+â~yA!.^V9ʉS*Ă~f;h#flP!3Zd(mť#dGL7Ou\. 2=ϟ}D!W<|lsR  "CP&(FOHnP<ϥDc`XgMT  cij Xk b[ 2\d nI@ijStbF,ݑg5gա|Ժ$k}JykR & Ǎp 6M4+:~$e FSTC+ Tl¥kHL5|Wk#@ n%/PZ_iZ ^^Ԑ$ıq6VW#9|c b.3!93dk"y."D~e 1U9n&*e*F$U@>:U㲭ぁ|KJ_{j.^iZ=//\iH[.Z@o" LGڵ&SI58o;YM Bedk %ZOσpZ;8[¿Sy‡+pr7lBgbѷۯx+wO޳-sM;gK}=7\|[xA->r w. O|E*\K“_'u{AWϬ*_PG.a.6؆ 7!5$9OR=*hƱXHGKD >d3%^>>6[ :`VmAAѴvb䟴~a0B2KЎr6i \%@54-fvf я&$-DAiq)2@96|Řȝ.Ch cb[.RD9- ^)k$e71dOL FQS2?$+@.eZGn )/yf vVlatqf8h_S&)?{ ;7A9Р+B[ &š#MMtbmTRѝ@ ND, DX)ER7"~55>VƤKP3aM9N"e[lyw08@;ˈ@c`^SjN|w- !W[H(by-EPZXnj\g;ۆ=+neŁڄbEJIaULrRQRj+8Vtb9jM (\ ߃Œ0T5~NqN&21\\'tObs뒎EH]R~.+U=f e]HR. %b<%U6 zKZ dFR2qphp*!DYhZ& nH„:`ktpX.?*#.hQa~"Od5[K[HKM ȰKھitagFAADQDueQQWT 2SEι%yi@#7Jss'&cUtrTYjGY(X#PMOPjCrl!# J~7 lZvX(ǟlkc+@I"ن*ũ1&3հ1^* 6>eM|jᔤ&>'F I_F>n>B=aòK=0ZOH~ @$ Qc >U ER*AY&iM+؎i\ qEN6ʕD PXj+Jp c6I{-rMX$7ɸ8M>*یA&U`-0q-_u=.MRxmʚU-/ԜC>3RvIH%pܩčs,e$hʲM?fXǓa[bYGdYG1?jfQdYG|YG#j1qԌ8$?l$(R;#kdO x@~бo#@p$gHY\%Y!?ZזHLؑ#5Cd8L0 IEC>jN2uJRTPsbR]F4 A!P!’s#,d#Yn*H6D TBk(r[MMeC %5!8cD4*ipD#'X8B)[r9'#B~ =~ 8ڥrX@KoSJqE:MTp'  45K_FSS'ID-    -o0C0Gʠ?F8uhH 8$4,;~0~nAAySќiLVy.+jnwys#׌dlЌ8N~*BTXTO(` "h>xEAWQGLT/>qs>#qP킞P w.oc`""bh)Ó(/o\rws^ Exj2؀ h}fggBCL/LmȈMxL]'d2{fĚ+67"q) vWKBti+DG^N`q}BM$A(& , ߓy_:aT1 iTGT;M\ .S&YC XW!!3363Y,%&7ඹqԵKj$ ["v# /Eib)#JfN1s95.ma4ol7L~#F![EVXV(U$AȰޏ)UY/S9IeDA"CY"tppjDs<^7 ?\9qA#K8pE]!]\>4/j <V]DvZ#72I_ +o(~Xp+D F-~٬^%AEq:cD"Iiz׆_$rg|*VfT-d*4@4( It<õ>$'?LgxUT/3$xr/|UIG* _#kpr\hNzP\XpW|U.8Ԥ*_JWUۘb֍8QJ_@{%ҰDƚ`"LҼHuAX̻ѿX`}&'*^yC|izD`R$xjiO[&&@eW#@;ꂂSNR_ <zA(~Х~P5@`/w#] _ӱr9I }V.ϣ7RId/`ߩzC 0®O&Y`UW{<5G}E]rʬ%dw5)/W&LvVJavkf/p9I_s"SC@'/ uX_)I4Pm~e`$"~$ "6;_aΚ=;l7z}ʟ[{ CWJ\vC#{o>VrȾY~cg}0m5cS97`KuoosMܺܙv~ݞusyn˔u>>ײnwѣi]މ.\1xjڬuiFM38{Nly,w۳nyEnUn,͛:-N[ϭ]|C/Y=}ڴ;uY,J߼{f{6~^8iSK>]7pW>{|wͯCYmVG桒7wy/[f=ğ-_ w(=G;{s cwVV/͏Vҝ;susy6L*+&г܌M?ݑo f:_={~^GpuzLjhPK>oX!7.uws>3|,37K{~l<:ѹ.<+[N>R;ߗ.{~ǘ)=d544~i;Cz&Ӌ?|̧ yt֦E6s?5juæ'0RCgK~`D;9⼠[ٸĘ!|vǯ߹rw%ޛCٵ㔥v13%/}gdLXPR6QBJ(V)K*k{,yܟ}3\ui^?Ti( ,έ.'N'co߼ι]a,^hw m& {zf1 N*pqH>7a뒃k')*6sg{|gU@bFN谰LLlˋ=Z2—j1zű /'x3׿\tmRh3~~g=svɱ絼~ڮ*[@{@$r`QuְHfXlRΝKzʿ n.\ ;Nbk0;p5n{=79v0dh]4jU#?nEQ`Kb3(f4ёgyƙAUm^{ zoZIJ>u-իW1.췾Y-K4PRr(/s4q+9m䦶Nc7MS[$TApۑZcBNƃ/;c7p髳aF|TT/["^1b.]ElO)W:YHkٰ ^;OtR-cMZA:x4 F]oCvӠ/ i 5ۦׯUV.aVrpQU -B&~=/ZކΏ);P;.uŁg?Co6ezǘudUG*Dze+C/D]!_'+9u˒;u]n垘(f}C,{5"n)zO_±==Z?cm<%y&Bur=+~U460(JCmۮ乏{o' )z|6Ծ>k8 qݤgΈ͍y-|[RoJaY;\_nM?)MCޣHsϭSOK|&;w=VW]E.EQs+uTYe[*4=Tw0ܛ6myɮww?//ܮK_\ / ~YU?R8X9]\{ƪ7{#GfgWonv o$r]@^5FӑӱϸsZBǹVԣogITEݾ=PFi5˩ԡ,]; [_b׍|=Eg)]z _{zОH6!gG?JU,ԾKkۧzmR&}C=6>[_Sxզ/NSp+!yzK36uoԈqo?"EjޑKB~+.#68CQ;ډf^k87({o9(mIws@R7Gh\_yUȱ_`7\;e}n-%9/N1s|Wáz yɐRΜ Nn :<+y/!b dQyIdFl׶Tٔkwl9x 6|+¬ep(]p*UGOUث޵U~Obǎ8Z3,&c1B'ά*Rjxm +W>iȓ[r3ko -P1.B5XVߗ7ÐowưƪkW K}cqxk|}Q@^kd+Kfsǒvlמ<9/EsjF;ךRˈ( ҙ7Tџ[|eKއwؓ/q!^8mW~ҽ*iYߪtFZK讱sm;q^kt4)=b2r5:\G_~k"w)56πNP탩|wxD'Wmy ,w*mc3A]]www]@@5Ɔ\ Mxm}w/ѷgsFCۧ*w*)X6=v f?y8Ts1\,=~V701OրxED[ԅoMg rqK;07eDnK7*0vIwv]F`ηTz ݶXv7bd<~>jr{cƥW , +=Ppj 'EeGRnOvK.x1GY!83ƇW닖>ѐ_*HD鹝F[ބCYWRQu)l1huX1cv@bJC,Zv<̕#CG)qn.b1Ƣ޹"]f cN n+{uq6{F,X8 E@rt-'54NX,Zuy NyY}~'/Cǜ뢍",eJAƮJ\=2E?8龫aFVw*cջH4zpX03,2CT$*~ úe;.zM|-ӲǡLv$aݺe;H_ݜܽek8aBoӵ{u/JPT-XӁr"Kuo ~lWyL.)<سK5jg b[bTlD3$$rz6wdH]'xpw;µGns5V?[o=N] cu$n1FZd9Ƞԃ>vY zH:b>0;8̱L7ՋK")J <ĕZ AѰjM0׶EO(8KA޵6}p;n-įP]R9\6tEWDZH5)]s1-i4H=KW9z#Ǯ_?Akꘇmp>nyz;Eo Fꎗ 8Tx,:.]tbJӻPkkXw[7rSpC)Ur"EMl _y L-lY+s]VJ50]Cԃ$֗}j)j[WÎ1 <[5NئgqXW"Scn7֯Kmz[\޺>$ڝ  }]EiYxcaIځcEKG/¤‡Oʵ/n>緳:s@.LQ*˨,ځKRu;p͵[K}l]yXR;u@PFKv@ wIx*I0nrdosȕa>C-VfXu.־ c$k+H;:ʴi(*&`噕m[fQf\ɾ̌2[ omC]+x#3B a+SZ/ɀzhOݑ ӾQQQa=pnZBӅO!(!ߪܼt{y5*;'R@&buAor0%rl|}- r*Ah9Ro1u5Gtn;5l\P U o&;9~U{;|K fr諥Uwl%!o;_!]h5.lKrm sp^ @Zp]ʣ|yhĻY(;=UUsycx2̏,йlhL [>?Ǡd Қ _E7q`.Ԉ~dH~Cz!e@4ƫ ˂f\{};(Xyuv,YWƋFXYW!=o X?o`ynzgضk+JxlR1bP]}2~\ %P+_>9vI4 '2~݁9䌤h,~8u(sչlav,M$o2va(`p/LqшU!k Ծc E<>~őe݋T{gC.v1,Sua@if+|a}QjQ@e6hjKwZ;7( R,AwX$o͆ݺQwٟλ ?u[B[\CnhiX]vvQMTٛRHCFIa՘ϿLiyHA5uK ekjlWV'"Sˢ]uW ~\-JBhʭ[R6뭤&;ɧSIU̞^hʳC)];&ez|z鮛fct3ϝrf ŵ[ƣ!9F?YyU8q:C{Թ=?}8E>qם lyYnÆ\B҇oުaI!AF,eDxxjj5H_V`838:ه f3hmwM)d QbtW<{zn-a}f.&aF{MB_ݾ*f_Ew1`PP}otaLG6zVXYiW-|mq'OǾ$ײڢgoGK11s0#rjCbVqb[y bbbWt_-.=!3Wx}J]msy(˃>% ?QiqW#z^<{b]}j3nn9&Bl-gmq! cW}aM+ ܊$_[ rÅ%)=.q/ $;ʔDb'<M F0RlD/򘺡 ]n¼C1zi𡲃,Y6 3*=l^xR{&H;Ҟ nݵ;~k IՋP< |60nX0`d|wd-gvGlت4D"'ǹ:|.ғ\뺫w] WJ2˟? 73[ s̋ύk͏Q^B.AH<*%XFt?~g]ίR{ @EbŤV=@>xnWpTJ/ߦ>:U8*^(Zν Ia%>Cm<2{_y)ۼogkmJ5j0yR w? FZt?udI=*e'aAg|":o-dk׮3ۦe{cn7k^|?kU k`ښcڛI'K|{a^,@ݩRyZݮ7^/wEwˣ[c1mW#ͽiB҆

-QAhM}P6O|V/*3>k%.̽[F?w bƜ{; j gh-=)9~s-gcӲȝn1j~n2S23#<]ҧysŦm]^Qaii 8i0l-—{YdbOYZ]<5 ƲUvzd*]oSCZ~4> bDbOc5f0Dju %c oH/nxWZuR"[S^.|hqYy_E>N^gM|i=k\EgphDDv綞75=ۉсuGCK'}CFU3FէݯO9f`/-Zt+v8-t }R+s[}Iu.=VrŰT-pWf jx@e>1q /sGثRm(eۡ Zdmе']!HFBɆNZءS ݌*6;|||,vv:ŞYr@'6)8*AT-ep۽ng{̖F1v5OotQb{^d`wG \Zk*;Z^vUcNΤyyrwTyKg*y>8޻=JB*u{zz\g|6쌖=UUq(~6'17Y龹L*7?|IAAa z~l.Imrߨ2Fl/W/fnJZP]4xw  ~Wu;Dze}q>|*ytg"ee_’%awĥDͲ7G4r/ {\Jmp ցY1 +MuOqG5ߓ QZ}]]t7ǕJoGLR @%WЋrYt6&)Lc 9|^ DW㶂H̼#4-5nK, *͹d:^wQtooנ71 Nڮ+lglo'bFgcQk\@1-}kv{[ ƭN<{&yw?Km4Po⺒KS5)52?Xt#Ly/, yFlݻR8ʶ͜ꞗ{[K}?m#7mB wg滫'#|2=GQ-,iؙxcy2[zmhYщ6 zݴ^2ThP{tnrSSXRӂcϟxU6s裒O?z}{p8o^^zZ& uHR{3O.??ׯ˴|t "W& ڎ2o62A?8H!C=/\-כ3ͮXYJ8{;Eh<8e("†hزrި<} nPv-!CCU!dM)u ~Dd@ֵͫYJSGʟB1'u^U4]L{()0UҙcjSE)Cs1'}.\W~*x?!DйN]ȗpzWS DᲴE2 'ػ1\ | ra,p{eWk2W/>sb-$%j5Vç w7%.jm8 VuRn!!7/%qdždHi̼y㵷[OH#6+Y_]FAӡ)kbv ~b&nvLG+Š8&~I@Õɇ|ђ=pJ=],n;XKD=C-{%KEO&_%%p,YeUz@u.f}S-|whatcyhK׊wjX8%"/c9u_-dhز_0A9GO߈ [S޷ȇj<ضHGy#̢-2] ۥ.Y]$WC"$T;*A$G[v^RN "davέ8'}ǿ1<%޳7Ɍ=b#x# e(dmm$'-ļvtL%jRǺ?DwiRQGDk(Ȓv7hb0nVKBnmt/YU&ʲUJLEfC[R">ڷ%֗f_Xba[O}MRvR3ѱAXLLpUC&]zGQZ>sC=6v\f%S6:* >+iMBn{چ@i+*):i[Ah.:Qv{tKgƒ•ewYGy#s% n}֯x>ۑ 3<퍟n8Fm:W}|澏WW}}]_^~4<0۴]јQ5. 4ɵ<")/j]o*Ed*>fe(++KQR]7Btծ/[ ŽrJol2BsJQ9UQ;צ#Lnנ"]4V 9fer_İKw?"hdeʱ _o1qPDG\0.cѤ$ìv`S^nր,ASś+Wx$)/MT$q:jÈz O)~ɠuGtqxq L[UG9M[NTD o>_$~Qv 6EE}MddtgaKn޼О]r>=x`f}0]W: (ܸoŴR=Uڷ;I{RJs Iط&G84GE=ca5PzYY Pׁ[R&Wn$)|Z$wqk\%n 5S+td١†VpG0@iM] *Í%{^õS=]Lݡ1o{V#Efi[S/yIJe˴t>eջ1hݏrF[^[]o׮«,VF022 ' U8KKB=!clvɍ1*ŅnNHXrxהsr{lfqk^*SY*@&Gb0-U]o ' vR) "RUŝW>ӻ5i4=-^N}˥8[wD6E~52.b u(%yCsbgud%)6oHV گ||"EynW܂R*]$bҚyW_2+AXI85)|sdRpKNx$4/QLLSA3)L}|i=קZP2=7lݛs guW3j-=X־t>FZA)6O"POd.*~y+c6ݺ0ٝT j[ll`Yg.r͌f酷qAPr/"G>0_ÿEnv^RAԪ a1syUn87orHXBpޤsޕ馕;;RKL=݅ŖH<ĚڇwFzR+XD|Y!J=d^}QۗP51kٗ*ŀyI23LV)3njeQ [H]옵39++Kzx)Зo{:\HMP'@RlRtrFIoL_@(q&)Pg;!d(C:Ϩ"THI)[zN,++m?$ St8I$rG\x(@T)}nyϕEƓqPy,1Y0/][N^ Gڇ$K V|d1eUyJIBlh_M۝8&1%(hsM`Г4&M艢RTs|a{g4;5W Smfn!ѮWOluԷ`64ݎNhnӯG":#S?[22=]DGeZk^2EOvcaP.>cCƟCʹ?iHSSsJGp4'xPDG'MqUNy| b v"v/A 8S ^J bHdC;24'f9p)pi6'|Fi֖>3 )'ס/"D EhZS?%Srɶ=ّ;O'i%&<(f4MM'OXwf&ȹgBjjgh縶&FȇTW7KE2ez#ݔdQzt?H&Z D4B&bS7gt1&N@&@ߘs;xgD&t 1nsy\n/K/d9sR%EFv>2ؠ47`:Xa,XELlH,qAtM`͓IJ*%?̏f!hἉT0ZsfcԄp$NQN"4jE* ݩG 1k"'F2$P 1cl\ TU'gDx C( $8g͘LqV&M{Gď_G{MfT9O3w,p,&c+fs|O2yߝMGRDpJ%?Q 'w)sՆQ..@$)D]HN$ G1`JOGܧ'ft17-p%S9#P$4$]hΊ"{C/Ab 77bP}@Ӏ d/h-8:23L_f@(S6M"B3D& %( Dܼ)wro]A&l,nv06QX`6 gPɿ Sy,ki?oQ>{JX'{ '*,n = 9,# ЙI/F!p!CoN#crvqarX~U)ILsىl6QpD}?֙@+Gtn޶PT=+ ׶i;NK4\*:B\` ~+s\w^+)l{' ?-dFiaAr4G] 61/Do6Mj~&iїk6?KnNDOni?%aEh;Ll02qLO~Zev>U'JsHNqS+4 ! #O4Ɖve;Wx̼~*1/st BԼ!h3 I@!2##^_؄v3U@c&:3h!1 \C DpK _\(P?Xn%3W3 G 0P( "~֟PzC@(]h~2c?sz> d3KM[u g.ϐnbaqtERSG*B2.\FMWJ~`\VCZsbpHT=F?!39f0,RZ9/8tje)B#M?O?}x OWO.B:O]g;[YptTt4=m54m'Rwg<>l@:Pę]1dLi אќXɟZHiڿpļ x6 Q@$ƓU35WSC9$BO]ମTUx6 ('Ӕ5S vT5N- 3;tzbUXa VM~Ga0]V_aw FIԝ{SXi 4:SP ):Mw\3RTO<8IJ*xO7Mɿg8UP 8MwU\lgQmO&'q׬< Bw3*'i⯮@NsAPXz!}Ga鿮0]^@a*ɔ>O@@G_i< > S$yd195`AH<@NB.3VdW~^S2$\s†Z0ۜg[a6\#9<)X:3g<[Y"%:OByB'ο/kEO7?폐Gqr#^ ŋxp)9!d<ɁQ. Lit%c$[Gё !PHKN6}b@phfx>lfX֑"yo2:$0FF`R0E #\Mm'ɱAd8 %a(@'4ԅHtǠfo㧩'\X"IAv6<! +B48HJ/9{9( 0:C]T"NBR޴izNJ& C娴w4h-CS&Iⷰ IxpOj B5 c4\Q$2hBj}@@?pgzfTFj2i ;f"b(<8ś( EqŒ!ĉ9AS؉"js2у4 B* .h^E39r@ RbeNbW bM[3+lNh 67E AH3pH&r'ڬV e`*ULTOީ"U6” KD %Q(A$Au 0x%I*$#8p92?TI_o&%C, `Z{89 C&lLMEF<:&P+J61xALÞBɁRG") h-f1SUә ( $m4͓@r11&`Im޵yy@1(038Dfa~Up|WnAA%@x#H,O ]gDq% }edՑny`:9n?,   IX/xH* 7 jjoH{ݘB;H;~^K]}&ShgK``+ӤBXJfRJ`}6ޕ77n#)PMxIeNd+cMޖ(;jj>$ J$%'ZEeGkOfkf ♆! kX:TɦM}v)W.)*7gQFUΐʵhuFIij̔ADTW==0W. 0*g#hSg_h+w.?*PNTꦃ(crvieY(&q88;U?kp|~Rn' _OWiwxLcr2/k=jɕB:_H4/s޿0EkOWHt'j]R.%BF%Rrm qtkԲNH\[X#ѳ4 o&kVQvxEI Ǻu[+C{f U.?DӭmϾ\e'GB5*At䶋K'Ϲ?>1Qat 4~D픮w1!QMGKMUWёJ_+l[^8/0먔PH 08zx{cw pH!? ?8n0T\f#z2rp1=l9_J?dGq0'vO M#uoN:;BxNfЭ"5|P^ad!V"%;[?01uVp]q ޱ Π[ u  L5`*=H81$^·x &՚Vu Sȍ苜 Ar3FNO0YƜGGylc eW)8*05VjLH"lj&`U AS ű !"@+r l/Z $n Vq%8҇$L0Wa'UpQ)Q〲j3qDꎾdHy ?i:唁sEa0GcR."p'/F(W[yB~Y lK}$?ۦy% P1h eꛡ<~Vx U _ds)#fԊyLd iEmiy hŰ堁# Ac 07&   ZH-K` tW 'Ldx+L c6$Uy0O!@`0 W "ՈV a,% uO'F+px;)lqyy /C[Cq}8m^IϞ.}f0{~ n3fExgΌC LD(1C_=d\Vi|c/Ɩ {=wGl>NknIbHj !=rNjF8x/mѶYL%UXXyϖ q3<1ly-SR,trR:*(^٨8PF13Q6,eBؒlO]@|PL=lNr2Zk=k^6&2OOSm-B͐ҋ#UlB,t>T% QOjV?`/DIKQȧz3bsĵ!jhb f6ejQ]Y|:W)~rt*H !`ʍKb֕x/1#cR^Qo?ĀZ@,F▧cA|Y3u8G_>| K< }"L $A=M/Ÿ0&3Ƭ;t8 УB )LJ&@]rKcs xE%1_ny4_֛l|B *~ xN& ʄČ̖'>nڃ= 8c Ľ=tvs~l6Ƨ B@B=xIӸ1@DכH[wu="e1&wj cchtlաK=ُTHڪ76;u;=<"U Piv;P>]vF{/݀ڌ~,J ~փEST|u8ә mU5)l؀H~R>Nud}FJx['߂Mbij˓O( znT;ĦŜ<*xK]!6rs j!"xB77Ycdž>rM#uIN|>]d|۩}\r_\uZ,-b|oG,'ݲJvFe GR]KIgWXjQ7D.OZ+.eOX`q8rrԑ$*y%h; l&NQ_tA~nnT={ȓX3f-h1MLВ$^^vΓ sZ)}D7&V͒(kThBE61R;̠nfC52FKK\XNyu8P'W)O@x!(%5NaiVRs1I5d6KW"t5}A߫MiUiD.TRС#r"S%n腡kf[9G-ymfPo{W"m<ϧ'ӛe6Txg*Ww=%ݶA2:sF=lGq&#H}ZotUtOR+A(I.ݐp )@G;^uu|sq6+WTh"*aR\<``%Bot x[vBK,l$4fo ĪHK?Fm5>\XkKSfT81Ay*拳Z[WǫV7wo~]{[?C*(Վ ll`^DUk ^*. jce})֍Bmn[G᠒UI j6?'q{0֗kKPVS/o5>%W_. Uds }wo6FjsESU!!3g1IS8l't"-}!\dK6Ѿ7g3i<[3xKqTZw}yvyڍfvBT5lԯC7p=zg AǬ+NI*cv6g؁WT(AY㎁̖?ƽO ?W۟>Ju.Yþ͵-ݯQݚڟ/ͮ@PX?{_%0$Q|z%~GwX˳iij|'fC@i6!糣S7yrn)œd;RwwSG)<'Đ"ؑR8eʨRIiҊE{śY)GcpmjIJ=4 ?ua$l!` M

Y@Pl:/^@.4w<0hR٩5`|Ѧc mxuA`#a3"\wTóTm|v)W.*7glWR )zIA94*az9R5ur̤Sr69<q|g :<2" ʘ\=;ൾ@nsbYVv\0.N+|ݵ^st#ҫ+}[*xL#s:/k=Jj7_P o3Va%FG7<S6ݙ\[0353?#WPuxGi8kt"DlW}Dëa(VlZAhDQ}ahTH%us+$gmmLvq Z c<\t};Z#*(7̍Ȼe(* #U{zdS ̬F- V؊ut^`#Q1PNe{f`MόpNU $4*$fJY;ۿ;L׷O nA{aw?N/L'G.vag 9Dڒ#plCR[j׉tzZ5W8޳W{^u)#F81}/c1Z?5 cO׿oӈ ,oE"{9muCSu->ȶXa;24#A7&.gyO A AȠy瓙:+> {|)=3t&K؝( DX`)^cJXHcxŽнơr ł 3`c+X[3VPD6ԗOһ j-ǷrLZ byFH^ޒc\uZ]㒼^F5WDJwP=vUS yIKC=d("طh~v k9/Eh3ӿ]k/0鞩̏]>hcarc)~d;;ZvB8talNvVT;ߤ# W2wH,j^S2rSL50v_;:BC+)&wz hcvVsImha"\nuX%ǟ7Ĕ dP8(Z3L8ya>.~&9=/ S/z^c$Ⅵ/A%(|di+$ȗ7fC**b\Sȩ,6<(wl˳gOFnCڧi_es,P[2?cDQQ%f;Zr?Lx=2eiohfY}3ʥ5 0h3k҇He3&6'6d]$aZȿVaBO=h9߈I]R̉(r'/F8%Fr 9=rۺ \;DM^dIUV33U*$PKԭ:0>_vd++-@h4KOs34һfdIp+ѵʕ;u곬ߘ!]]FwKU)2`p*_+Q cA綧sKLtgpUlOsaÔnĄ^ɨ;?޹I?:?xp9%x T߿v'0] mT" t'[]1s9265t_}T[yρ/1֖g3m{?p`ns&"Ji ML=e{V 5ދͶg<܈mwuL6yQ/qxyG̐w<@eb]ɂ=\#kԈʗfHd8PVfȢ6%¥+eB6۷:{ݜ _"Dy σ|}u?N-5,uUwc@{6kxrysSѢ$q1/R O࿢o2ϊd<Ȓ9`98Ā_(.6[󭁂'%2$NO)R$2Hr MgU"*z b8q9a>U9M+N΀qFŀ.xޞ u_؃n.jX GĢǗ`%(o1t%by"o:jjZ="}5iz4; fҝ iE>grt2ͪf/i//5[ *zpK4 0 ka"T~VVqύ:k*A. ]k˂*:asu|{} CHYa0+dDSL[A usW%Rۑ"ibYO?6(* xwmV7,ŜFWxGe^!˾VGi5̈-933s"CSz#>P ˃XXi7f$5R  h;nJ߁|խ𢀤-Ɉ  9Fْ!a +ݤ7z= wZyOLz\aF[>8{Voy~Q/T#ϩ#sw˕񿵻:oͫF;^ۓv[bm*^Dޅ8s+fغ1Eۡ3բi!~rkMsI.\[^kцrx:qvPwtCvuXw@뎁;gotJqWjsmGOۉa7귘[5Ԗ6} gG&&H*< 1~õ%0rFP׽ J'ǣn.g(cF+<~iFay([>jFw%pC1ooe*L(7p d#tD(`hx>Z3 }vo@_Z8v)#y:טP4skl{xz24SG8 B6)w|ua$Óχœc}X&/Z 9HR,Ѐ ţ";l45pXzW,[ZƺJ,A>;>]o4MtYv+qs|o1z%m/Cr &C @XG ZFGtsCERDP~ I jλ7A 9BgƳܲ/-+mmHfsꃽǿwl˭JhFEC2 "TʼǢDUFc[z*QEZ QEDz6QA*D-_J$*An\\/rہtdKk!;\5L ]z%u6܁9[ Bpx Mr'ZOOo3~z1հ4ǯPTvu>%Z(N: *]$=h6&1K.wCډNBA>"=|ڱ(d aJ &;TL$8 +-WEd*?(قn%= x\43 mIд?r0E<&69eu=~H%կ++OάPA..8`V+8J8Y^r!V1N5f [j 9sFFf澯hڎF&3{opH;imT"8AlZu[H/ZLfnoيI(mLD@Xԙ8 ܨ] \˃\}[}+d#@ y7_L2l3F]n~(&9LiAV.,HÈ4>4}WA¢i= ^cH04>u>iYc80Cv1MWcJ6>aOiL92i1ڈũwOVe`PVXSd{@g[nlqm؍zzc^ gD뼵i"11S\-pGWs$yF̵dųc i+HCWu[;2Q3dbd"ܟ s 5-_ ϝy9s-YAA&Q򼌨~4OMP30mzV, m-{e >ќԶ*.5Fkw %hȺe:װ54 y}*`77 'q@z)MAzrɡ"X%3Gu%kEn_VuDS${`vf|L; vǿ'J^R,03Wc5 :&,Ueq=;>=VIVȆ 1ЏŚf׷ Z.Y,UC^\dܲ;R>"2YP-ӳnp\ b„\2Zy8p({Ruy_t6 2 ]x)xcnJ6 04 5M9% fQID *aQJ~\^u[k(mx2+h'o p*Җ9ҡ$Z 2 ps#vS}㓰YÏLf L(v%?b=kHdƛ-/l 7yab27χ}1M3G9oЄыBsg]: eY z܇R=`>g"uKujlC1^H. }}* ;q7ZJcg8Lj YƻwE}I-3TYu@MJ)AS fƒ0\܃'Xߥ_?9'7#}~]o|O{7#t1JI)mgj[ r;etn3 풾~!# :n\g)B=7BLzx ghC P컘R:4̘j8Od%64kk)RcR_5<+5-!TC2i \юy;zdSc[TŠrg2Dl>x-"<;Pico|R̰vPl.mqĎa"|m ygo@"/XϏ7*FvE1 FYRzqn2-. cs#Y%=;ymƐ kH_k)cm ,,ҵ̵"XŮٟ.s Tl׊ ,7Ϻ#23` ׹NCEd(ؔv+LT{Q3AI9<9QNĻ&KD Db.IZ3$"cҤH=rF%Ha#ywF#TxdjUZrz j6K_F1)ր mʗ(Lؕ3ȝ5 f3eɞCwyJ ޽?X Z 8p;TJڹIH2L3`Fλ##Cp( hJvmkV)]|߅`\vRųm1$L,'Ú^ LOܺčg5&/ wm Ƹ;.Z [ 0ǵ=~P>GcvSEQl(cHGW-Mr w>Ѽw YvMV/JRYފOTJ)X)oH0N\T+70}7h 2>k\ރڱUt{ȴmhk:<)39 \Helvd[CًOl#AiW"Ce <OWya  PL.z3jYS }\uӪ7 ͍"CDE\w Ì$(LLd4R4ZGqZr݇jϛ0}W׿o![ %$}swdыNFk9Ǵp[(OM7ef覮:@C@5A2GD?IH^ܼWz/#Qe%' _@mv L:<ӄ/v { 0"h`WB;]l)v0jpK=%kݯuֽº<~Rկaz-S4 έ}KBLzNvTQCleB2U 00B}GɐBw=dpv;Wa{D$y;#`txz:e~e<7LvHéȈA@c4q)^v=0 s]aV;ڎ 9Duhj/)!dls$eoyyWmq#EFY3CpXJh 8`1.U>,/%;Ȭ@Esys',E\yYA3:WqIw"I\yR܀K$X1T^Vˠ޳6%; ڭdjzKG I&5; 8ίBHBwtN>} ˚QY\zRZȯx;*FHA:VȬ/[Y,#jE'gWx3~y`F˙Oyj~lHRu*haLmX?,.c&O%J|b3_bGE+pP 2Jkjj>{Z~|SKgvz@u:1 ܹ8Đ ~r&T٠z1ɥ*f# kR +/L2:$7{:S43 G,N 1k٦ !U}:*m֯_kF1hz(X`:}ӤT%=(+}DkPhl" r~"66HzmӏFlpo$蕍`E PۯxӍLF9(d˞*)Xk3Ƈӏ~S^wA1rUʌԨfs2jq S\xƾ-"B$Bm[+C 1TQeWL97ޞvۈLO\3F Ϧ vbn6AD u&0D$˵?Ŵ]F;ݯko?Z!nJ8rtL,"<^`"U} =G֫@"1욵5y)v6COkVHڗf̉6s68VZ9XRRZ(S b{O%(g pE Av_ w<}G]7lN}vH6^`< niRTs$=AZ|rV2C[״-Ŝe܌gޤ8?}X Hǧa ,!իMPɐ֦BH-5'%"f3WLJ\}Z ]+>p*0-9){2Mw57 2<^}nEtbFyَJtO޽?Q}'~^^v?J[sEwOxJb/<4u9ͅ ˦dמ=O'T$Do\r!M|I1+;\͛=D}BqHH]h.񙸛#ߎ,փIN 0MTgM*'~vJ {#= 7X >I|>}5% LNapWtPRX`ZXl$LmdV1;:ZәxXH),'bCn p^sM!z2y°v;S򂂍qLWVTXm:HSD0ȑhNfJ5w]RE@} RBb@*:U%g#8}*Z $:WA\.JzȨc%1nRƠp_bz@Q[3U}Sh9p#Ё(teqsE0gͧ|YAlIr cvNk~ZWdѻ˔R'aqqU{z ,h4@w:$cM)-$hŢPa5vB(w<Nau,i,V׏ by¡BȒ)s Gj-i^~{8˚*]nAWUU1ˈm` 6*Bw LA,#!- =MM۹a* QereDB0D .C1%ŬP5S2ڹ mcN&DaF pR掊 jU8aKLC8sVhKozݻ6ъ7j ny>F=Ee߃GtKH^d1B;{pj%Pۊdmd_ $~wd_=w S<#areC%kYigcmB{x!|tũƹ(=Rt5e3eS(.NuƉ);vG1\k'hRĈ]1_⡆H=@W{WE!5dUDo4"QP](5B@ѰnB"peP5F\}{:XAL2%(bbYk_-eP(5Fvd嬢></wB!K-YHkq)Y(5BAm4q*uTݮ8@L 5*&y6U i:ew:8JCbh%S[|kpA! L)Z C%b6u6a;0Ҍ-"[fP Ż)Vm m!K vBL .G0 P4CMymE$`%l0 pڤ `x\2 Bذpd8@뻬g 2`Z|rd% x+ $SlUж}FS$MBsfaZ >\9xXRr ). G?jhhhkhkFlr b"%gj>t_Cj4b~%`gSڑtGUzk飏7Muۅ_~`;xB`=Yj*V#G޴I~CdgV8SPBwo"g'"~bu][Ͼճ{3!R׬aaޝ>uw]×~:ur_@;<`A–S.c. :я}M;D50]+#`кȕb)SpQ}PC.(i*<]@cRVtH:@xbl^dsT]oI4.,wݍ&3L50 ZbjL '_CYy@60&zr_ XRPt%M}r_U^2C- 2pB)H/q ꉑy(l2ݧ` R!Ļsp E9839Y[ p0DP~76ԥHy^I] Pr,!0fC2Ѻc{1Xqzs 檋\%k@ R/sx.d 9aKHk$晛u9KУ9R|@`_i*vBB|B҄AKYzYin4 qDfZb]{ꪆ`IP䫡v(w,~ 7|sh%дM n.n0kb}$δaX?>ŝnKN_8l.hm?&uƗ>1f@X@[h+0VO oQbI7coa?߼6u|YB$cQ#9 65R-7o:èmddUQH@[=1tkԛ`nJ*bJV.;4ld &tEj3;}3J>pV7m?>΍TjJeE)"UYm:_E⎐HtU3/[W`]D0CS306C138* d%gSr}Vi8(4IjVæѣAg1)`x&vuY0sMO R 2qS'A&ѸT$lSs7S>:~=ti gJyڑ/JQTܔ&!SLsI $ѬEyݛX;?.{ȣr@&V6T%y,0eAGcl Bkfiv",8dޔ3 ghA aH򞖙#F7^E/_s޽L\ 0B۲;51Kkh]O0.5MYHK/y_.K8('x\=: E`.RqS^T3P y Oz_"FTφj<=G]cFI<+*\ ?!FW\%dr=MGct \_P|De5K+7i5^3Hː|Մj‰+"p)P/,0\l, KQ6 V1̍R*YmHCoWׁ̯w[rPN s*S7vB.VdJr#c2׍~C^K1_3t>Xtr`d] 5/UUM'ŐM]yT"2FOZ{:z;9ͅ#Nja: CPB8oj='wբjK4_޶-wK ۅww ڄjՉ3 nbʅ  oWh]5Ϳe/{C/} py r >eA?/%_/ Ѓ.>1wo;CXJ°W'dc;_n^HRAp"V@H6~W~ĿL7t5fvq̽ѫ,;yz=hu^%v"\ӲVCB @6h4 _N^X鷞gXЀ]']nG婝lISq#;k|Ļ[[*d~I}yJIZ3N"Fh4LNX=d1ţ>ކ@Q7*+E+VE3Hd'op$6+ۅVd$hagy^ĒgIcޣ݄ B d ̗:RA/2geKEKE=`4 чN!(+j+#YD,/&mhhBY<*ܯ>G-DWW۬d96Kpגk_-˰+]ҠvEԎEVgI|2A1mFy|WN#hDd:GbtftS)Blwsێ NA+) e8V&w3 kX;%m.p8_`^?AEek+@ W26 :f Xxyi2p;2>Jyb~,TΞ|$:Gٖ c13m`l E`d7Jv/ggQrcG60J%6B`q"df 6+sP+)WډlLm4[.|)k  6ml 4k/{/׈|0c lsv=)$bTM&A?T5\ N/w1gCzН. dr'jb8QPz)#Ƙ,\'/q*Msj EoOi?70p_{i?6G*+7_8fh/Xj"|؂?}Jf )Xj߿ڬ- nR/+?_#_ѾYKߟ~Oi??/jcnV|߲»@{j@=+@lu!W@=uM{jpܫdMȚ^2Pjh?_֬ղs~)]G?0\8%-b^}+9Q=bgv63>kŽq0&!bh` K~;x:ٰalˆ)PM 8"Do#uN,/XY!omcϭ!{y5bDA1<eu,4 X,u4=G ?`V@]r4$4r#GacTߗtj)O7 /y?@G)d|q?gE>ԍ EarP>ţ׼uXhC=`=Xo2w)O2 /ydOR Y?A&KN9g.U2]>j˲m,Tma" *@\]׮;I | '|*X9#  ?llو5G'Z% MQ?{\_2`ҹkOO̅Q3\xn=_.} -;A(~ - !?*XŶH mP+0Q`%к5-7t5YP}zSo5??o[7l_C|HӋ6M\xv5_.&z^5i 9WC^V=NTtYFo~]h݌,̆sHе HQK{XZ^TԌ)޻ɩӐ `I$eZ/ ݧ,|Yi!xXuNbCZf+HMrI)SA+Xm=߈ gAۓrƞ?l-ۥ8zor]o vIU3/>:\V% >qQNQ1cz:ޣg HxhaMo C. l@yw)1akMHMPA'{rN?ÕnfH»ʻؘB^6=RΛy7+x3kl7X/+U _ƒVFVcbF'F2i%$'Y_iîFVdm~:NTW v,VY*jO,'z%6 Yav%SQ˫(B.=$Qqm3 Mumfdw+%^V7jpqMoEP8cNPbq<}PDU[bli7rn#<f4 -@k8L71,ho;rwsldHǑfwB;N?`'F/c;\s] ȀޙN 5j@:.R`1vg: ځh {NAgo񛡋.C^pO^tb um⎣?hk38<&pw%vզݬW!!t!xn.Fg BZ[duMA6WkHC%T47c2fc}\w)Hh]+dV!dq<mc xur'83fĆO Q-KjmWy=o01"p^pq&ng $j*c3Z8 :,Ф2P(~P-gRPe1%k!Mף(%F:h<_kdrr\CoYv_vG8dv+tu__PL3,BTG3b>P$ 3Ȩ3LK_Qi#.}LJY$ BڼX{U9ؑzKau'l,n&Q}Ve'֋ɖd7%9FÛ5:(vKhi"̡ex-*8Ǒ?RËt1C99y ^B.3LtGC 3J@JRM M_Lz{eh@jsm(o]~jBY1X=CFySPe&nlCVí/TqB_Ò>3;o[)vP\]G]6` !K@h@?=`tȸ=1qWܿW̮ͽzC6vvUk.#tn@g3]Pz_o5zb+#pMK}O>'m!UtL+ώHj$c6,71^ʵH|xBsf..Wtފ fFYLMx2 \Yi, }e-WwEX8hOɕ.ir|qjǁ;"s$[S$*1_4..%YGGESAffAғ1Y؈k ,S2-شkwN猈o4'}&ݎ<e<Sx b/k؀+BpG9@`fZ[ ^o޾W .B+;&{d?ؗCk]7phP`$7 0(\^|bԼBjb_(0! pI36J`Q޽?q7]něǣ~yٻq%=X._TɲƷL٭RQe"5: v͓lw Anx h4 OUQMcpEY#4^ܰjT/U*ٔz'6JRAN4yNAT}#_a,Lcc1gJ;APd2u sxs(L(hRj6t^f2YJ"Y:j!H]A|(N,ց20}y 4QCwERI9朆KPՀe< e?a|pf (kq:O *A+cc">i sN7PUiF1q yf;nhJi}|50,b'vڽv?v;7rt93!-7]$F ^\tb, oVzid{Xu?ɠ˸/$AaB`l9AJQq?؜j9.+|kd ͜Md耕/2)ߥK&JF; 8CX8W_-7mSMC[KC5w~S,y!$V|Xo*o3!KH[,.zh_6K+L:۩0<N7+Yxр_3\v ˵VnOG)Sd3֝ou"[oۿWXAiz֨бZT+'ȶn NgV2tVݐhGmvKKPI /ROMI}GCჿ-EbϫȖCѪ)=tٰ?(@.csb끙.`1l;/L>d&33^Yә*mc9q?=%CʖHm8X%)mh! ,V 'mouyW>JZθ on5o?Ӫ/M0*LZըY;ݿ`TмmD!@nj6\ ["z lk}2t'ZA!ڔAnٜ9u0Q(G76?: >Lj_/6*oC%i%؈y>~.E%E όP1VA ԷC.بn1 c#[%]J3q(,F$֌]FrN8ܐb!xي&F 8"Ifە[l] A $B|p2}Vo"nl-\Mʔഹ?:UYSmfsLtFiU4VQJ_ !9 #!!?_%|͹Miz"<܈5LM13s;V?r}sy &&y_.% n|S@X 9[5$b R瑸[-3b?r1vYsuP7?Z'?~\B~9?E(qQA#HO{p{ݣ킸xc4e:O7LF. w;6-d1,ؐP9CZO['QkTxtkN7!Tzw&^P`e31q(2Xίqlc$s~GIq< gM0lM~:S.g֫М)H9Z]bCM~B9*oܝxOg.'љRXnNi|@:QPǧwET$# Q@9qߩ8Mԁ'7zЬkZk46+ZҬBZȼO?}|ҿrrp^jN|28 <{or{vU.?<<I:{+`LT4pAaQ O_ݴN=R|rooC κ7*<iŠzg ,`#wưNth6^Ca &C}ófA8(hG0^l 7=X뷻m摢=k<'7 v1ypE4[/n1Nk a9y5&Vv<<~U*fVpt2 nnq@Bp:l+M%{ŁdLÏ߫uO{}~^gy`=9o󒈰΋̓ W2^Ջ  Z=|Yz)"P"P,(-B=ҪX/+T)Wlš)>4c=TS4KhSԿ &;'"Zً9~fIN#ĴM7tDO qR >\Vҕ*&&!)+-WMdN@ǢeO1P|M7["8<` azv>["^CfBtq9hGMtZ Pw<ttjƸz. y|ržʾoEs{yU&~E.NFۊ#6Ķ`"b[z,_%ĶlXlSZ&ΦBl˦}蝟!1r1 T0t"Q3qFWL雋n{=я6>xbpl[ְVpWkPvl&[99@/>fGN@OŅ Roo[X$tEWidR-lidR6~)i/*.B_kE!jHo}_Fz m Yk?d $`@'8qR g+Ou ;*"lFmڶ'!OsDfzYUSO,oAK}R$Oaz~!"TKGU+iNM;)?pow+J`_瀔,"챐UF~"(HL< `C&23[pbj1+lf Wes\ '[`"~HhDOwV,X[aD-M,DC^| $ oBAT*R k:DR1B.tk=XIHP` , E{HS<SYiFܦg1+9Qw*XhGzKV..t&J"b] LpF+rmi$BF%w`Z e#}HHƓ.1XPKE_6=Vh2⇓e]T\qrCw&>GFxVJ-"Pػxw sP sYjRU+V5{d|;=5]jґ3 <]e?GbN:es: @&D!}'{ hi6V3hH(\z FDV.z~a釣ѐH{yMX:ZM!fJ"u2(͂^P~/=9BG3 Rv4QKǖfȭ,JUc摉W"$. AM$sX71[K.pFM=hX>נŌuOІ17)]A m3ƈ AitMFF/͙458sA <3=s߇xxcd(w+&4YPN2Sr2xЧofʰ?겪 4u9Qc!ky,/>e`ED.rRJTp8 AVlU JƄ42'MucfY-L"yZ:a#`?'@?m$Yp>/m7 "x(5mSJt;B 1?~3 ୂ|1I.6f@6+(c"# [txpXw7Lf?x|:>( [m~_ޞvBw) \6x|Ia%nSbɼ݃C=^w›|OA|Opir6?~`Q"){? eT| ׾mLAPo'xYKɇ~ӽJ;1+(Vg1dX9|.lX!gbN|Nx\yt$yլܪ;>,N?e*QxZ?s\ZzȽߑ6Ai$Kel3 lh25z3Lz\G5gF琔?S[( )g6 _k˺U H;C4WDcgŚ<]:\szgf<ТF<Έ@> *a@X;d9'Dd Uo1r8$; (igy`P0\ ~g`W]+Tbv?{y Oevax˓C v2 10\XHJi1yZJ^LA=/ob$t;|X;do0? `Jp|ݷhZ6~Pq`Em1ӱHPN\"oCnH+P"uVĿ7)!\[tg]XjL83#/K"3qX?8`i>Ɗ+9ۂkT~w6An/o{^0Zk &FxTR=nםҷE$Нvo0ۇIca5E 9 roZ:ps ݦ66Dph\X62}1%QL&KnIɩ&lpL!5^luu,P1I6`o !tƋ@1qى玐ݰ|Qs;ϳ:C"J2C9`sjVNcq7gۖy3D߉*k>' ̨"ChDzUί6%I@˂Cn1rv}68l_Q F9XIsv< "'pyw]kIr9 jMqЫ=0UL GeP7X}:Su[gX[;' I9`id8$MA 4[Fcۘ@wMr˚z($lIqтKϖlD&+0 {+*s+윣&S&^Vڽ× 5!"9}%yg;*GbK`+Y( 'G?LKx$fq? /1`_OSK`0rm\2U#oOim|hx!25,SM2[Ӝ@/^t'+|E&Q00`(ˑ/'lfl-5OK&tUN_uM&&?Y!hKVڃ !7_HAG |5*ɫk"fP0kGTl#ǴS`~P9Ĩq5UpZ lh獦uv?_]ӪCĂZ>ѤCJ:-lceZ`43jjԕAe LE՛{@c PZZc/G-Co)A>d*7[ȋ(MњI,(16kX\86 `1u0Mj7$8ΦemT5hZǓ84Fݬ&j~}^ڻ[~ ġ`Ŗ Y^!5$d^\VGDJO1'Ap Lk`ר7!2JL~dyRaTZUPՍ} 6}-"oTw{);9PRBQ EOH(3 ' d{{fWH5vPB/ B $}5d4y4%pہ] n<[uއ}ͤ`Fk)즖<RP Qzy4#C!j5CD«y|] Hh $F^ǣ) 4 fR}`` !sw܍ +Lnt/ylWKg2t.61t\0 t->A7#\ mߓx ,kCWqU@% zT Qb%Vfhu0Z^( ՂhZXTR+Xehdj)F,MWQR`nw*EV+fM_yY6%1(e-P \-bj%1 eqA(Q-EZRB heU`PVmbf髡҅ ^},sT npfoوJc2|j,K>ҰmhcnkأGm-m*^3uϹ !HAjgz֌!j?GG9X-VmL롴MF_EΤt;A6^¯ ^x8Zۑ6 _ %¡mRC6F~QFնV_2Z;rvTI2k'f0Siz/~y}|_2r`odDV߻ :u~z]=tz]lv觛cOABo3pA0E–]4)uſ;ߐLLc{)i^i֙f6ZO 0^3iJe|*9g?T;`@1 d6{si<}mI8m%iV.Iš;zM-W^0vfU.Ǝ2 K[iTNZЅ!{N}Oөl`/mfK=:ҹr:9ԴqVO+1 )- |hVW^F77Ѭkuճ`P)/S*~hxGouQuE_nj.^{|z5`KcИnG.QA:?t$:aC8pr#Kb/f7dY]kgMY%VqiZZd(T] f0C8z/(V::K/bwMX0DASG,dJcMt~ =zͤ=*5"2<$kܭ<$ ; YoxTEQ޸n 7χNrq-ibҥe]F`Kz-i=v]:٠6v>tݟa|H1R&lJpwuaP\ 4ǀ{Qroڣnk Ah;>9y]]SϖTTTbelf`78H@;m1eN!(z:2W/P C}~Q$ 9Ӡ6/PWB?߃7nyhLZyXbbYf-MM1ZiUhZ$cfִ@ :e6uEæ LͲ jN4u R/ʫHhCS,F(j<|4|Xvfhn<ǟ&31a/,TpT:>̶/.a/: P0 LɚR(PD&D*V@ n΍5(x[[HkVbzH0H'}luƎpD:N&-1MD-B$#tgtf`0ZuZKJQINj9*N_hu& Z^::ry1 |}5^}'7NHtVTu9\̇8Mq dM>1tTEAʼnz #rKJn.Q'$RdO G}m`WJ,0$a!5ME3Xߡdj5Y]yA$v]?*r:w _ҜXF'6Y@wiDŽKK.#zI8Hj0Uy, 0p 4\MUwkjD w͝ &*nNxtŨD4gR~|.,i64WЪ.nhT;5 2+M—ӫ7&p>b]xL\)ûi̒' 2֨ifEjQ QYG_kmy׳,/.vr=99LorQYL19%I>9yxxP %'T|QG<>wW|!h 0q7zk(&ozPho1];/jMI] pjqy .=tzbVq>Ma~]*5!6GEf"BwXH#!hw..$cj $·c[1Ig*~f[Aj"Sr[~ w0W- >>??gU6s&4/3Pb?m3wcA8u8S@ߝt? Elrv2[yo/|ha#q}-xi MXS!.AɀrGXq+&Zb(J}ǎ0=|霝 Pax Aっ. t\<Ռs;,8h6%ѓGW0ljh.b~$ 5ZӖxUA6]Z="KzL~ xtV,7iCip*S"O!^1F>*Y@+i[?qKk^O{20puRbir OApz YϵO&ZV^(c3 q^N1ec9ʟ4.iAn:|~Z}NQ~QXwRAvgtSPnK"UQQEᐃ$~ 떠aItmxcrd. JoH<\%Inhw>Tw$19Q5Vo3w:d=>[uxWZ_7~}^,OyI(U)tJ⹚ CGs5}Z7(K9z^87M 'z*=W'{oywokSW%)WՄ} iqc$r 'b%'WKx$ )Ė,Vqλ.6wGQ0t|<w^ ܤPw+O Q9jt;Z10<Nyy+]f G$Ʊu$_2 8Xp4Maû()ˉupإ3IsycɏnJ)M<)_U# `Zɺ^S> iR8O9HO{'x3쒻#9I򴀨NVԃ(9q(*ܻ]J79tu8-%!"*:$ȑgs)k}Ȟ OBd؍8_%iS%4;\ߥ?|V:z-?h>Uޮ]|4rrICmm̃}3;ttxJ׀',T~V!b˶;b#PzH!b_mdD0oٝd&=Q1RȲ?^3IPxKK.~~b]\Mag!ڷWoa>daG^RL7ΧOo闋Og<ϨV!W$iIfOL\'N~9QDE([WעfK/W *֪S{LYtquIT.n'WMlh5~A[Xi>@NJERW~\_^\nDKeQ,XH)Rp](s8W?ʀؿ$\ҼH\v^i"x%AB{,0P62OٲU \ 74jx|!.i?^\e ʏH/J!@*@bQ&'މ| s)#]Ho(y& >BU][-JhRµ@j:UlnZY˞dSv}och$?V ceAM _%0Z"o?aۋQ+T R?3m9)9u2vܻ0IYp:)|m><\5-+kg+K4|+8Eˇ+wqi;:0CHJLZBۣx(zXò0mp*ؽYʫ[mv2ƣ.8yhkRHi8;GNyMf,3q(I>a|JB`Qnh-FF$R!w1.6(T'WL xaZK!3R@ґ/bM>KKi [h@VRJT|I[.{2<[w=ܫ[<_2z $g (_:z%wL ŷgy,㻂1(vn'**/qM1.H)F(+ChvnmdՅ]nсnTZA #}Jiҥ#OF>p:~ 1@o§|pg#bWTu4Sd(9I3??}=$o6IfZVAk*zjvRzUGVun7`E j$,I||MCZ҄S!5><w 6vjȽ_i|L"52N.h>%R*[{Y`Y 1;"/˅ʒ p=$OsծK&Wz_U͚3'aCiX臘~&?1 M~ihEg!4+삳&] oG6 !!\s?16sx;_pzXxN/nt܄nz&i/iig7v~ ADK>_"Ndd#:5tK@I^@Iގ7W 2B>E