Package: orthos Version: 1.9.0 Command: /home/biocbuild/bbs-3.23-bioc/R/bin/R CMD INSTALL orthos StartedAt: 2025-11-21 15:46:22 -0000 (Fri, 21 Nov 2025) EndedAt: 2025-11-21 15:46:38 -0000 (Fri, 21 Nov 2025) EllapsedTime: 15.3 seconds RetCode: 0 Status: OK