Package: orthos Version: 1.9.0 Command: /home/biocbuild/bbs-3.23-bioc/R/bin/R CMD build --keep-empty-dirs --no-resave-data orthos StartedAt: 2025-11-21 15:48:47 -0000 (Fri, 21 Nov 2025) EndedAt: 2025-11-21 15:49:56 -0000 (Fri, 21 Nov 2025) EllapsedTime: 69.0 seconds RetCode: 1 Status: ERROR PackageFile: None PackageFileSize: NA