Package: orthos Version: 1.7.4 Command: /home/biocbuild/bbs-3.22-bioc-gpu/R/bin/R CMD check --install=check:orthos.install-out.txt --library=/home/biocbuild/bbs-3.22-bioc-gpu/R/site-library --timings orthos_1.7.4.tar.gz StartedAt: 2025-10-15 07:59:42 -0400 (Wed, 15 Oct 2025) EndedAt: 2025-10-15 08:11:53 -0400 (Wed, 15 Oct 2025) EllapsedTime: 731.1 seconds RetCode: 0 Status: OK CheckDir: orthos.Rcheck Warnings: 0