Package: orthos Version: 1.7.4 Command: /home/biocbuild/bbs-3.22-bioc/R/bin/R CMD INSTALL orthos StartedAt: 2025-10-05 10:35:54 -0000 (Sun, 05 Oct 2025) EndedAt: 2025-10-05 10:37:27 -0000 (Sun, 05 Oct 2025) EllapsedTime: 92.9 seconds RetCode: 0 Status: OK