| Back to --- experimental! --- GPU-enabled build/check report for BioC 3.22 Report updated every 6 hours |
This page was generated on 2025-10-24 14:30 -0400 (Fri, 24 Oct 2025).
A | |||||||||
| QUICK STATS | OS / Arch | INSTALL | BUILD | CHECK | ||||||||||||||
| biocgpu | Linux (Ubuntu 24.04.2 LTS) / x86_64 |
|
|
| ||||||||||||||
| amarone | Linux (Ubuntu 24.04.3 LTS) / x86_64 |
|
|
| ||||||||||||||
| Package | Maintainer | INSTALL | BUILD | CHECK | ||||||||||||||
| 1/3 | orthos 1.7.4 (landing page) | Panagiotis Papasaikas | OK | OK | OK | |||||||||||||
| 2/3 | RbowtieCuda 1.1.10 (landing page) | Franck RICHARD | OK | OK | OK | |||||||||||||
| 3/3 | scviR 1.9.14 (landing page) | Vincent Carey | OK | OK | OK | |||||||||||||