| Back to --- experimental! --- GPU-enabled build/check report for BioC 3.22 Report updated every 6 hours |
This page was generated on 2025-10-25 08:30 -0400 (Sat, 25 Oct 2025).
LibPath Version Built
AnnotationDbi /home/biocbuild/bbs-3.22-bioc/R/site-library 1.71.2 4.5.1
AnnotationHub /home/biocbuild/bbs-3.22-bioc/R/site-library 3.99.6 4.5.1
BH /home/biocbuild/bbs-3.22-bioc/R/site-library 1.87.0-1 4.5.1
BSgenome /home/biocbuild/bbs-3.22-bioc/R/site-library 1.77.2 4.5.1
Biobase /home/biocbuild/bbs-3.22-bioc/R/site-library 2.69.1 4.5.1
BiocBaseUtils /home/biocbuild/bbs-3.22-bioc/R/site-library 1.11.2 4.5.1
BiocCheck /home/biocbuild/bbs-3.22-bioc/R/site-library 1.45.20 4.5.1
BiocFileCache /home/biocbuild/bbs-3.22-bioc/R/site-library 2.99.6 4.5.1
BiocGenerics /home/biocbuild/bbs-3.22-bioc/R/site-library 0.55.4 4.5.1
BiocIO /home/biocbuild/bbs-3.22-bioc/R/site-library 1.19.0 4.5.1
BiocManager /home/biocbuild/bbs-3.22-bioc/R/site-library 1.30.26 4.5.1
BiocNeighbors /home/biocbuild/bbs-3.22-bioc/R/site-library 2.3.1 4.5.1
BiocParallel /home/biocbuild/bbs-3.22-bioc/R/site-library 1.43.4 4.5.1
BiocSingular /home/biocbuild/bbs-3.22-bioc/R/site-library 1.25.0 4.5.1
BiocStyle /home/biocbuild/bbs-3.22-bioc/R/site-library 2.37.1 4.5.1
BiocVersion /home/biocbuild/bbs-3.22-bioc/R/site-library 3.22.0 4.5.1
Biostrings /home/biocbuild/bbs-3.22-bioc/R/site-library 2.77.2 4.5.1
Cairo /home/biocbuild/bbs-3.22-bioc/R/site-library 1.6-5 4.5.1
DBI /home/biocbuild/bbs-3.22-bioc/R/site-library 1.2.3 4.5.1
DelayedArray /home/biocbuild/bbs-3.22-bioc/R/site-library 0.35.3 4.5.1
Deriv /home/biocbuild/bbs-3.22-bioc/R/site-library 4.2.0 4.5.1
ExperimentHub /home/biocbuild/bbs-3.22-bioc/R/site-library 2.99.6 4.5.1
FNN /home/biocbuild/bbs-3.22-bioc/R/site-library 1.1.4.1 4.5.1
Formula /home/biocbuild/bbs-3.22-bioc/R/site-library 1.2-5 4.5.1
GenomicAlignments /home/biocbuild/bbs-3.22-bioc/R/site-library 1.45.4 4.5.1
GenomicFeatures /home/biocbuild/bbs-3.22-bioc/R/site-library 1.61.7 4.5.1
GenomicRanges /home/biocbuild/bbs-3.22-bioc/R/site-library 1.61.6 4.5.1
HDF5Array /home/biocbuild/bbs-3.22-bioc/R/site-library 1.37.0 4.5.1
IRanges /home/biocbuild/bbs-3.22-bioc/R/site-library 2.43.5 4.5.1
KEGGREST /home/biocbuild/bbs-3.22-bioc/R/site-library 1.49.2 4.5.1
MatrixGenerics /home/biocbuild/bbs-3.22-bioc/R/site-library 1.21.0 4.5.1
MatrixModels /home/biocbuild/bbs-3.22-bioc/R/site-library 0.5-4 4.5.1
R6 /home/biocbuild/bbs-3.22-bioc/R/site-library 2.6.1 4.5.1
RBGL /home/biocbuild/bbs-3.22-bioc/R/site-library 1.85.0 4.5.1
RColorBrewer /home/biocbuild/bbs-3.22-bioc/R/site-library 1.1-3 4.5.1
RCurl /home/biocbuild/bbs-3.22-bioc/R/site-library 1.98-1.17 4.5.1
RSQLite /home/biocbuild/bbs-3.22-bioc/R/site-library 2.4.3 4.5.1
RSpectra /home/biocbuild/bbs-3.22-bioc/R/site-library 0.16-2 4.5.1
RUnit /home/biocbuild/bbs-3.22-bioc/R/site-library 0.4.33.1 4.5.1
RbowtieCuda /home/biocbuild/bbs-3.22-bioc/R/site-library 1.1.10 4.5.1
Rcpp /home/biocbuild/bbs-3.22-bioc/R/site-library 1.1.0 4.5.1
RcppAnnoy /home/biocbuild/bbs-3.22-bioc/R/site-library 0.0.22 4.5.1
RcppEigen /home/biocbuild/bbs-3.22-bioc/R/site-library 0.3.4.0.2 4.5.1
RcppML /home/biocbuild/bbs-3.22-bioc/R/site-library 0.3.7 4.5.1
RcppProgress /home/biocbuild/bbs-3.22-bioc/R/site-library 0.4.2 4.5.1
RcppTOML /home/biocbuild/bbs-3.22-bioc/R/site-library 0.2.3 4.5.1
Rdpack /home/biocbuild/bbs-3.22-bioc/R/site-library 2.6.4 4.5.1
Rhdf5lib /home/biocbuild/bbs-3.22-bioc/R/site-library 1.31.1 4.5.1
Rhtslib /home/biocbuild/bbs-3.22-bioc/R/site-library 3.5.1 4.5.1
Rsamtools /home/biocbuild/bbs-3.22-bioc/R/site-library 2.25.3 4.5.1
Rtsne /home/biocbuild/bbs-3.22-bioc/R/site-library 0.17 4.5.1
S4Arrays /home/biocbuild/bbs-3.22-bioc/R/site-library 1.9.1 4.5.1
S4Vectors /home/biocbuild/bbs-3.22-bioc/R/site-library 0.47.4 4.5.1
S7 /home/biocbuild/bbs-3.22-bioc/R/site-library 0.2.0 4.5.1
ScaledMatrix /home/biocbuild/bbs-3.22-bioc/R/site-library 1.17.0 4.5.1
Seqinfo /home/biocbuild/bbs-3.22-bioc/R/site-library 0.99.3 4.5.1
SingleCellExperiment /home/biocbuild/bbs-3.22-bioc/R/site-library 1.31.1 4.5.1
SparseArray /home/biocbuild/bbs-3.22-bioc/R/site-library 1.9.1 4.5.1
SparseM /home/biocbuild/bbs-3.22-bioc/R/site-library 1.84-2 4.5.1
SummarizedExperiment /home/biocbuild/bbs-3.22-bioc/R/site-library 1.39.2 4.5.1
VariantAnnotation /home/biocbuild/bbs-3.22-bioc/R/site-library 1.55.2 4.5.1
XML /home/biocbuild/bbs-3.22-bioc/R/site-library 3.99-0.19 4.5.1
XVector /home/biocbuild/bbs-3.22-bioc/R/site-library 0.49.1 4.5.1
abind /home/biocbuild/bbs-3.22-bioc/R/site-library 1.4-8 4.5.1
askpass /home/biocbuild/bbs-3.22-bioc/R/site-library 1.2.1 4.5.1
assorthead /home/biocbuild/bbs-3.22-bioc/R/site-library 1.3.13 4.5.1
backports /home/biocbuild/bbs-3.22-bioc/R/site-library 1.5.0 4.5.1
base64enc /home/biocbuild/bbs-3.22-bioc/R/site-library 0.1-3 4.5.1
basilisk /home/biocbuild/bbs-3.22-bioc/R/site-library 1.21.5 4.5.1
beachmat /home/biocbuild/bbs-3.22-bioc/R/site-library 2.25.5 4.5.1
beeswarm /home/biocbuild/bbs-3.22-bioc/R/site-library 0.4.0 4.5.1
biocViews /home/biocbuild/bbs-3.22-bioc/R/site-library 1.77.4 4.5.1
bit /home/biocbuild/bbs-3.22-bioc/R/site-library 4.6.0 4.5.1
bit64 /home/biocbuild/bbs-3.22-bioc/R/site-library 4.6.0-1 4.5.1
bitops /home/biocbuild/bbs-3.22-bioc/R/site-library 1.0-9 4.5.1
blob /home/biocbuild/bbs-3.22-bioc/R/site-library 1.2.4 4.5.1
bookdown /home/biocbuild/bbs-3.22-bioc/R/site-library 0.45 4.5.1
brew /home/biocbuild/bbs-3.22-bioc/R/site-library 1.0-10 4.5.1
brio /home/biocbuild/bbs-3.22-bioc/R/site-library 1.1.5 4.5.1
broom /home/biocbuild/bbs-3.22-bioc/R/site-library 1.0.10 4.5.1
bslib /home/biocbuild/bbs-3.22-bioc/R/site-library 0.9.0 4.5.1
cachem /home/biocbuild/bbs-3.22-bioc/R/site-library 1.1.0 4.5.1
callr /home/biocbuild/bbs-3.22-bioc/R/site-library 3.7.6 4.5.1
car /home/biocbuild/bbs-3.22-bioc/R/site-library 3.1-3 4.5.1
carData /home/biocbuild/bbs-3.22-bioc/R/site-library 3.0-5 4.5.1
cli /home/biocbuild/bbs-3.22-bioc/R/site-library 3.6.5 4.5.1
clipr /home/biocbuild/bbs-3.22-bioc/R/site-library 0.8.0 4.5.1
colorspace /home/biocbuild/bbs-3.22-bioc/R/site-library 2.1-2 4.5.1
commonmark /home/biocbuild/bbs-3.22-bioc/R/site-library 2.0.0 4.5.1
config /home/biocbuild/bbs-3.22-bioc/R/site-library 0.3.2 4.5.1
corrplot /home/biocbuild/bbs-3.22-bioc/R/site-library 0.95 4.5.1
cowplot /home/biocbuild/bbs-3.22-bioc/R/site-library 1.2.0 4.5.1
cpp11 /home/biocbuild/bbs-3.22-bioc/R/site-library 0.5.2 4.5.1
crayon /home/biocbuild/bbs-3.22-bioc/R/site-library 1.5.3 4.5.1
credentials /home/biocbuild/bbs-3.22-bioc/R/site-library 2.0.3 4.5.1
curl /home/biocbuild/bbs-3.22-bioc/R/site-library 7.0.0 4.5.1
dbplyr /home/biocbuild/bbs-3.22-bioc/R/site-library 2.5.1 4.5.1
desc /home/biocbuild/bbs-3.22-bioc/R/site-library 1.4.3 4.5.1
devtools /home/biocbuild/bbs-3.22-bioc/R/site-library 2.4.6 4.5.1
diffobj /home/biocbuild/bbs-3.22-bioc/R/site-library 0.3.6 4.5.1
digest /home/biocbuild/bbs-3.22-bioc/R/site-library 0.6.37 4.5.1
dir.expiry /home/biocbuild/bbs-3.22-bioc/R/site-library 1.17.0 4.5.1
doBy /home/biocbuild/bbs-3.22-bioc/R/site-library 4.7.0 4.5.1
downlit /home/biocbuild/bbs-3.22-bioc/R/site-library 0.4.4 4.5.1
dplyr /home/biocbuild/bbs-3.22-bioc/R/site-library 1.1.4 4.5.1
dqrng /home/biocbuild/bbs-3.22-bioc/R/site-library 0.4.1 4.5.1
ellipsis /home/biocbuild/bbs-3.22-bioc/R/site-library 0.3.2 4.5.1
evaluate /home/biocbuild/bbs-3.22-bioc/R/site-library 1.0.5 4.5.1
fansi /home/biocbuild/bbs-3.22-bioc/R/site-library 1.0.6 4.5.1
farver /home/biocbuild/bbs-3.22-bioc/R/site-library 2.1.2 4.5.1
fastmap /home/biocbuild/bbs-3.22-bioc/R/site-library 1.2.0 4.5.1
filelock /home/biocbuild/bbs-3.22-bioc/R/site-library 1.0.3 4.5.1
fontawesome /home/biocbuild/bbs-3.22-bioc/R/site-library 0.5.3 4.5.1
formatR /home/biocbuild/bbs-3.22-bioc/R/site-library 1.14 4.5.1
fs /home/biocbuild/bbs-3.22-bioc/R/site-library 1.6.6 4.5.1
futile.logger /home/biocbuild/bbs-3.22-bioc/R/site-library 1.4.3 4.5.1
futile.options /home/biocbuild/bbs-3.22-bioc/R/site-library 1.0.1 4.5.1
generics /home/biocbuild/bbs-3.22-bioc/R/site-library 0.1.4 4.5.1
gert /home/biocbuild/bbs-3.22-bioc/R/site-library 2.1.5 4.5.1
ggbeeswarm /home/biocbuild/bbs-3.22-bioc/R/site-library 0.7.2 4.5.1
ggplot2 /home/biocbuild/bbs-3.22-bioc/R/site-library 4.0.0 4.5.1
ggpubr /home/biocbuild/bbs-3.22-bioc/R/site-library 0.6.2 4.5.1
ggrastr /home/biocbuild/bbs-3.22-bioc/R/site-library 1.0.2 4.5.1
ggrepel /home/biocbuild/bbs-3.22-bioc/R/site-library 0.9.6 4.5.1
ggsci /home/biocbuild/bbs-3.22-bioc/R/site-library 4.1.0 4.5.1
ggsignif /home/biocbuild/bbs-3.22-bioc/R/site-library 0.6.4 4.5.1
gh /home/biocbuild/bbs-3.22-bioc/R/site-library 1.5.0 4.5.1
gitcreds /home/biocbuild/bbs-3.22-bioc/R/site-library 0.1.2 4.5.1
glue /home/biocbuild/bbs-3.22-bioc/R/site-library 1.8.0 4.5.1
graph /home/biocbuild/bbs-3.22-bioc/R/site-library 1.87.0 4.5.1
gridExtra /home/biocbuild/bbs-3.22-bioc/R/site-library 2.3 4.5.1
gtable /home/biocbuild/bbs-3.22-bioc/R/site-library 0.3.6 4.5.1
h5mread /home/biocbuild/bbs-3.22-bioc/R/site-library 1.1.1 4.5.1
here /home/biocbuild/bbs-3.22-bioc/R/site-library 1.0.2 4.5.1
highr /home/biocbuild/bbs-3.22-bioc/R/site-library 0.11 4.5.1
htmltools /home/biocbuild/bbs-3.22-bioc/R/site-library 0.5.8.1 4.5.1
htmlwidgets /home/biocbuild/bbs-3.22-bioc/R/site-library 1.6.4 4.5.1
httpuv /home/biocbuild/bbs-3.22-bioc/R/site-library 1.6.16 4.5.1
httr /home/biocbuild/bbs-3.22-bioc/R/site-library 1.4.7 4.5.1
httr2 /home/biocbuild/bbs-3.22-bioc/R/site-library 1.2.1 4.5.1
ini /home/biocbuild/bbs-3.22-bioc/R/site-library 0.3.1 4.5.1
irlba /home/biocbuild/bbs-3.22-bioc/R/site-library 2.3.5.1 4.5.1
isoband /home/biocbuild/bbs-3.22-bioc/R/site-library 0.2.7 4.5.1
jquerylib /home/biocbuild/bbs-3.22-bioc/R/site-library 0.1.4 4.5.1
jsonlite /home/biocbuild/bbs-3.22-bioc/R/site-library 2.0.0 4.5.1
keras /home/biocbuild/bbs-3.22-bioc/R/site-library 2.16.0 4.5.1
knitr /home/biocbuild/bbs-3.22-bioc/R/site-library 1.50 4.5.1
labeling /home/biocbuild/bbs-3.22-bioc/R/site-library 0.4.3 4.5.1
lambda.r /home/biocbuild/bbs-3.22-bioc/R/site-library 1.2.4 4.5.1
later /home/biocbuild/bbs-3.22-bioc/R/site-library 1.4.4 4.5.1
lifecycle /home/biocbuild/bbs-3.22-bioc/R/site-library 1.0.4 4.5.1
limma /home/biocbuild/bbs-3.22-bioc/R/site-library 3.65.7 4.5.1
lme4 /home/biocbuild/bbs-3.22-bioc/R/site-library 1.1-37 4.5.1
magrittr /home/biocbuild/bbs-3.22-bioc/R/site-library 2.0.4 4.5.1
matrixStats /home/biocbuild/bbs-3.22-bioc/R/site-library 1.5.0 4.5.1
memoise /home/biocbuild/bbs-3.22-bioc/R/site-library 2.0.1 4.5.1
microbenchmark /home/biocbuild/bbs-3.22-bioc/R/site-library 1.5.0 4.5.1
mime /home/biocbuild/bbs-3.22-bioc/R/site-library 0.13 4.5.1
miniUI /home/biocbuild/bbs-3.22-bioc/R/site-library 0.1.2 4.5.1
minqa /home/biocbuild/bbs-3.22-bioc/R/site-library 1.2.8 4.5.1
modelr /home/biocbuild/bbs-3.22-bioc/R/site-library 0.1.11 4.5.1
nloptr /home/biocbuild/bbs-3.22-bioc/R/site-library 2.2.1 4.5.1
numDeriv /home/biocbuild/bbs-3.22-bioc/R/site-library 2016.8-1.1 4.5.1
openssl /home/biocbuild/bbs-3.22-bioc/R/site-library 2.3.4 4.5.1
orthos /home/biocbuild/bbs-3.22-bioc/R/site-library 1.7.4 4.5.1
orthosData /home/biocbuild/bbs-3.22-bioc/R/site-library 1.7.0 4.5.1
otel /home/biocbuild/bbs-3.22-bioc/R/site-library 0.2.0 4.5.1
pbkrtest /home/biocbuild/bbs-3.22-bioc/R/site-library 0.5.5 4.5.1
pheatmap /home/biocbuild/bbs-3.22-bioc/R/site-library 1.0.13 4.5.1
pillar /home/biocbuild/bbs-3.22-bioc/R/site-library 1.11.1 4.5.1
pkgbuild /home/biocbuild/bbs-3.22-bioc/R/site-library 1.4.8 4.5.1
pkgconfig /home/biocbuild/bbs-3.22-bioc/R/site-library 2.0.3 4.5.1
pkgdown /home/biocbuild/bbs-3.22-bioc/R/site-library 2.1.3 4.5.1
pkgload /home/biocbuild/bbs-3.22-bioc/R/site-library 1.4.1 4.5.1
plogr /home/biocbuild/bbs-3.22-bioc/R/site-library 0.2.0 4.5.1
plyr /home/biocbuild/bbs-3.22-bioc/R/site-library 1.8.9 4.5.1
png /home/biocbuild/bbs-3.22-bioc/R/site-library 0.1-8 4.5.1
polynom /home/biocbuild/bbs-3.22-bioc/R/site-library 1.4-1 4.5.1
praise /home/biocbuild/bbs-3.22-bioc/R/site-library 1.0.0 4.5.1
prettyunits /home/biocbuild/bbs-3.22-bioc/R/site-library 1.2.0 4.5.1
processx /home/biocbuild/bbs-3.22-bioc/R/site-library 3.8.6 4.5.1
profvis /home/biocbuild/bbs-3.22-bioc/R/site-library 0.4.0 4.5.1
promises /home/biocbuild/bbs-3.22-bioc/R/site-library 1.4.0 4.5.1
ps /home/biocbuild/bbs-3.22-bioc/R/site-library 1.9.1 4.5.1
purrr /home/biocbuild/bbs-3.22-bioc/R/site-library 1.1.0 4.5.1
quantreg /home/biocbuild/bbs-3.22-bioc/R/site-library 6.1 4.5.1
quarto /home/biocbuild/bbs-3.22-bioc/R/site-library 1.5.1 4.5.1
rJava /home/biocbuild/bbs-3.22-bioc/R/site-library 1.0-11 4.5.1
ragg /home/biocbuild/bbs-3.22-bioc/R/site-library 1.5.0 4.5.1
rappdirs /home/biocbuild/bbs-3.22-bioc/R/site-library 0.3.3 4.5.1
rbibutils /home/biocbuild/bbs-3.22-bioc/R/site-library 2.3 4.5.1
rcmdcheck /home/biocbuild/bbs-3.22-bioc/R/site-library 1.4.0 4.5.1
reformulas /home/biocbuild/bbs-3.22-bioc/R/site-library 0.4.1 4.5.1
remotes /home/biocbuild/bbs-3.22-bioc/R/site-library 2.5.0 4.5.1
reshape2 /home/biocbuild/bbs-3.22-bioc/R/site-library 1.4.4 4.5.1
restfulr /home/biocbuild/bbs-3.22-bioc/R/site-library 0.0.16 4.5.1
reticulate /home/biocbuild/bbs-3.22-bioc/R/site-library 1.44.0 4.5.1
rhdf5 /home/biocbuild/bbs-3.22-bioc/R/site-library 2.53.6 4.5.1
rhdf5filters /home/biocbuild/bbs-3.22-bioc/R/site-library 1.21.4 4.5.1
rjson /home/biocbuild/bbs-3.22-bioc/R/site-library 0.2.23 4.5.1
rlang /home/biocbuild/bbs-3.22-bioc/R/site-library 1.1.6 4.5.1
rmarkdown /home/biocbuild/bbs-3.22-bioc/R/site-library 2.30 4.5.1
roxygen2 /home/biocbuild/bbs-3.22-bioc/R/site-library 7.3.3 4.5.1
rprojroot /home/biocbuild/bbs-3.22-bioc/R/site-library 2.1.1 4.5.1
rstatix /home/biocbuild/bbs-3.22-bioc/R/site-library 0.7.3 4.5.1
rstudioapi /home/biocbuild/bbs-3.22-bioc/R/site-library 0.17.1 4.5.1
rsvd /home/biocbuild/bbs-3.22-bioc/R/site-library 1.0.5 4.5.1
rtracklayer /home/biocbuild/bbs-3.22-bioc/R/site-library 1.69.1 4.5.1
rversions /home/biocbuild/bbs-3.22-bioc/R/site-library 3.0.0 4.5.1
rvest /home/biocbuild/bbs-3.22-bioc/R/site-library 1.0.5 4.5.1
sass /home/biocbuild/bbs-3.22-bioc/R/site-library 0.4.10 4.5.1
scales /home/biocbuild/bbs-3.22-bioc/R/site-library 1.4.0 4.5.1
scater /home/biocbuild/bbs-3.22-bioc/R/site-library 1.37.0 4.5.1
scuttle /home/biocbuild/bbs-3.22-bioc/R/site-library 1.19.0 4.5.1
scviR /home/biocbuild/bbs-3.22-bioc/R/site-library 1.9.14 4.5.1
selectr /home/biocbuild/bbs-3.22-bioc/R/site-library 0.4-2 4.5.1
sessioninfo /home/biocbuild/bbs-3.22-bioc/R/site-library 1.2.3 4.5.1
shiny /home/biocbuild/bbs-3.22-bioc/R/site-library 1.11.1 4.5.1
sitmo /home/biocbuild/bbs-3.22-bioc/R/site-library 2.0.2 4.5.1
snow /home/biocbuild/bbs-3.22-bioc/R/site-library 0.4-4 4.5.1
sourcetools /home/biocbuild/bbs-3.22-bioc/R/site-library 0.1.7-1 4.5.1
statmod /home/biocbuild/bbs-3.22-bioc/R/site-library 1.5.1 4.5.1
stringdist /home/biocbuild/bbs-3.22-bioc/R/site-library 0.9.15 4.5.1
stringi /home/biocbuild/bbs-3.22-bioc/R/site-library 1.8.7 4.5.1
stringr /home/biocbuild/bbs-3.22-bioc/R/site-library 1.5.2 4.5.1
sys /home/biocbuild/bbs-3.22-bioc/R/site-library 3.4.3 4.5.1
systemfonts /home/biocbuild/bbs-3.22-bioc/R/site-library 1.3.1 4.5.1
tensorflow /home/biocbuild/bbs-3.22-bioc/R/site-library 2.20.0 4.5.1
testthat /home/biocbuild/bbs-3.22-bioc/R/site-library 3.2.3 4.5.1
textshaping /home/biocbuild/bbs-3.22-bioc/R/site-library 1.0.4 4.5.1
tfautograph /home/biocbuild/bbs-3.22-bioc/R/site-library 0.3.2 4.5.1
tfruns /home/biocbuild/bbs-3.22-bioc/R/site-library 1.5.4 4.5.1
tibble /home/biocbuild/bbs-3.22-bioc/R/site-library 3.3.0 4.5.1
tidyr /home/biocbuild/bbs-3.22-bioc/R/site-library 1.3.1 4.5.1
tidyselect /home/biocbuild/bbs-3.22-bioc/R/site-library 1.2.1 4.5.1
tinytex /home/biocbuild/bbs-3.22-bioc/R/site-library 0.57 4.5.1
urlchecker /home/biocbuild/bbs-3.22-bioc/R/site-library 1.0.1 4.5.1
usethis /home/biocbuild/bbs-3.22-bioc/R/site-library 3.2.1 4.5.1
utf8 /home/biocbuild/bbs-3.22-bioc/R/site-library 1.2.6 4.5.1
uwot /home/biocbuild/bbs-3.22-bioc/R/site-library 0.2.3 4.5.1
vctrs /home/biocbuild/bbs-3.22-bioc/R/site-library 0.6.5 4.5.1
vipor /home/biocbuild/bbs-3.22-bioc/R/site-library 0.4.7 4.5.1
viridis /home/biocbuild/bbs-3.22-bioc/R/site-library 0.6.5 4.5.1
viridisLite /home/biocbuild/bbs-3.22-bioc/R/site-library 0.4.2 4.5.1
waldo /home/biocbuild/bbs-3.22-bioc/R/site-library 0.6.2 4.5.1
whisker /home/biocbuild/bbs-3.22-bioc/R/site-library 0.4.1 4.5.1
withr /home/biocbuild/bbs-3.22-bioc/R/site-library 3.0.2 4.5.1
xfun /home/biocbuild/bbs-3.22-bioc/R/site-library 0.53 4.5.1
xml2 /home/biocbuild/bbs-3.22-bioc/R/site-library 1.4.0 4.5.1
xopen /home/biocbuild/bbs-3.22-bioc/R/site-library 1.0.1 4.5.1
xtable /home/biocbuild/bbs-3.22-bioc/R/site-library 1.8-4 4.5.1
yaml /home/biocbuild/bbs-3.22-bioc/R/site-library 2.3.10 4.5.1
zeallot /home/biocbuild/bbs-3.22-bioc/R/site-library 0.2.0 4.5.1
zip /home/biocbuild/bbs-3.22-bioc/R/site-library 2.3.3 4.5.1
KernSmooth /home/biocbuild/bbs-3.22-bioc/R/library 2.23-26 4.5.1
MASS /home/biocbuild/bbs-3.22-bioc/R/library 7.3-65 4.5.1
Matrix /home/biocbuild/bbs-3.22-bioc/R/library 1.7-4 4.5.1
base /home/biocbuild/bbs-3.22-bioc/R/library 4.5.1 4.5.1
boot /home/biocbuild/bbs-3.22-bioc/R/library 1.3-32 4.5.1
class /home/biocbuild/bbs-3.22-bioc/R/library 7.3-23 4.5.1
cluster /home/biocbuild/bbs-3.22-bioc/R/library 2.1.8.1 4.5.1
codetools /home/biocbuild/bbs-3.22-bioc/R/library 0.2-20 4.5.1
compiler /home/biocbuild/bbs-3.22-bioc/R/library 4.5.1 4.5.1
datasets /home/biocbuild/bbs-3.22-bioc/R/library 4.5.1 4.5.1
foreign /home/biocbuild/bbs-3.22-bioc/R/library 0.8-90 4.5.1
grDevices /home/biocbuild/bbs-3.22-bioc/R/library 4.5.1 4.5.1
graphics /home/biocbuild/bbs-3.22-bioc/R/library 4.5.1 4.5.1
grid /home/biocbuild/bbs-3.22-bioc/R/library 4.5.1 4.5.1
lattice /home/biocbuild/bbs-3.22-bioc/R/library 0.22-7 4.5.1
methods /home/biocbuild/bbs-3.22-bioc/R/library 4.5.1 4.5.1
mgcv /home/biocbuild/bbs-3.22-bioc/R/library 1.9-3 4.5.1
nlme /home/biocbuild/bbs-3.22-bioc/R/library 3.1-168 4.5.1
nnet /home/biocbuild/bbs-3.22-bioc/R/library 7.3-20 4.5.1
parallel /home/biocbuild/bbs-3.22-bioc/R/library 4.5.1 4.5.1
rpart /home/biocbuild/bbs-3.22-bioc/R/library 4.1.24 4.5.1
spatial /home/biocbuild/bbs-3.22-bioc/R/library 7.3-18 4.5.1
splines /home/biocbuild/bbs-3.22-bioc/R/library 4.5.1 4.5.1
stats /home/biocbuild/bbs-3.22-bioc/R/library 4.5.1 4.5.1
stats4 /home/biocbuild/bbs-3.22-bioc/R/library 4.5.1 4.5.1
survival /home/biocbuild/bbs-3.22-bioc/R/library 3.8-3 4.5.1
tcltk /home/biocbuild/bbs-3.22-bioc/R/library 4.5.1 4.5.1
tools /home/biocbuild/bbs-3.22-bioc/R/library 4.5.1 4.5.1
utils /home/biocbuild/bbs-3.22-bioc/R/library 4.5.1 4.5.1