Package: RbowtieCuda Version: 1.3.0 Command: /home/biocbuild/bbs-3.23-bioc/R/bin/R CMD INSTALL RbowtieCuda StartedAt: 2025-11-21 15:46:22 -0000 (Fri, 21 Nov 2025) EndedAt: 2025-11-21 15:48:07 -0000 (Fri, 21 Nov 2025) EllapsedTime: 104.8 seconds RetCode: 0 Status: OK