Package: RbowtieCuda Version: 1.3.0 Command: /home/biocbuild/bbs-3.23-bioc/R/bin/R CMD build --keep-empty-dirs --no-resave-data RbowtieCuda StartedAt: 2025-11-21 15:49:56 -0000 (Fri, 21 Nov 2025) EndedAt: 2025-11-21 15:52:06 -0000 (Fri, 21 Nov 2025) EllapsedTime: 130.0 seconds RetCode: 0 Status: OK PackageFile: RbowtieCuda_1.3.0.tar.gz PackageFileSize: 29.16 MiB