Package: RbowtieCuda Version: 1.1.9 Command: /home/biocbuild/bbs-3.22-bioc-gpu/R/bin/R CMD check --install=check:RbowtieCuda.install-out.txt --library=/home/biocbuild/bbs-3.22-bioc-gpu/R/site-library --timings RbowtieCuda_1.1.9.tar.gz StartedAt: 2025-10-11 08:08:54 -0400 (Sat, 11 Oct 2025) EndedAt: 2025-10-11 08:10:08 -0400 (Sat, 11 Oct 2025) EllapsedTime: 74.0 seconds RetCode: 0 Status: OK CheckDir: RbowtieCuda.Rcheck Warnings: 0