Package: RbowtieCuda Version: 1.1.9 Command: /home/biocbuild/bbs-3.22-bioc/R/bin/R CMD INSTALL RbowtieCuda StartedAt: 2025-10-06 10:35:54 -0000 (Mon, 06 Oct 2025) EndedAt: 2025-10-06 10:42:35 -0000 (Mon, 06 Oct 2025) EllapsedTime: 400.6 seconds RetCode: 0 Status: OK