Package: RbowtieCuda Version: 1.1.9 Command: /home/biocbuild/bbs-3.22-bioc/R/bin/R CMD build --keep-empty-dirs --no-resave-data RbowtieCuda StartedAt: 2025-10-06 10:44:35 -0000 (Mon, 06 Oct 2025) EndedAt: 2025-10-06 10:50:58 -0000 (Mon, 06 Oct 2025) EllapsedTime: 383.4 seconds RetCode: 0 Status: OK PackageFile: RbowtieCuda_1.1.9.tar.gz PackageFileSize: 29.16 MiB