Package: zitools Version: 1.3.0 Command: /Library/Frameworks/R.framework/Resources/bin/R CMD build --keep-empty-dirs --no-resave-data zitools StartedAt: 2025-10-03 19:32:22 -0400 (Fri, 03 Oct 2025) EndedAt: 2025-10-03 19:34:18 -0400 (Fri, 03 Oct 2025) EllapsedTime: 115.8 seconds RetCode: 0 Status: OK PackageFile: zitools_1.3.0.tar.gz PackageFileSize: 251.8 KiB