Package: zitools Version: 1.3.0 Command: rm -rf zitools.buildbin-libdir && mkdir zitools.buildbin-libdir && /Users/biocbuild/BBS/utils/build-universal.sh zitools_1.3.0.tar.gz /Library/Frameworks/R.framework/Resources/bin/R zitools.buildbin-libdir StartedAt: 2025-10-04 02:36:54 -0400 (Sat, 04 Oct 2025) EndedAt: 2025-10-04 02:37:35 -0400 (Sat, 04 Oct 2025) EllapsedTime: 40.3 seconds RetCode: 0 Status: OK PackageFile: zitools_1.3.0.tgz PackageFileSize: 779.5 KiB