Package: zinbwave Version: 1.31.0 Command: /Library/Frameworks/R.framework/Resources/bin/R CMD INSTALL zinbwave StartedAt: 2025-10-22 15:25:43 -0400 (Wed, 22 Oct 2025) EndedAt: 2025-10-22 15:26:29 -0400 (Wed, 22 Oct 2025) EllapsedTime: 45.7 seconds RetCode: 0 Status: OK