Package: zinbwave Version: 1.31.0 Command: /Library/Frameworks/R.framework/Resources/bin/R CMD build --keep-empty-dirs --no-resave-data zinbwave StartedAt: 2025-10-22 19:09:57 -0400 (Wed, 22 Oct 2025) EndedAt: 2025-10-22 19:12:01 -0400 (Wed, 22 Oct 2025) EllapsedTime: 123.6 seconds RetCode: 0 Status: OK PackageFile: zinbwave_1.31.0.tar.gz PackageFileSize: 586.8 KiB