Package: zinbwave Version: 1.31.0 Command: /Library/Frameworks/R.framework/Resources/bin/R CMD INSTALL zinbwave StartedAt: 2025-09-30 15:12:22 -0400 (Tue, 30 Sep 2025) EndedAt: 2025-09-30 15:12:35 -0400 (Tue, 30 Sep 2025) EllapsedTime: 13.4 seconds RetCode: 0 Status: OK