Package: zinbwave Version: 1.31.0 Command: /Library/Frameworks/R.framework/Resources/bin/R CMD build --keep-empty-dirs --no-resave-data zinbwave StartedAt: 2025-09-30 18:09:31 -0400 (Tue, 30 Sep 2025) EndedAt: 2025-09-30 18:10:19 -0400 (Tue, 30 Sep 2025) EllapsedTime: 47.4 seconds RetCode: 0 Status: OK PackageFile: zinbwave_1.31.0.tar.gz PackageFileSize: 588.9 KiB