Package: zinbwave Version: 1.33.0 Maintainer: Davide Risso MaintainerEmail: risso.davide at gmail.com git_url: https://git.bioconductor.org/packages/zinbwave git_branch: devel git_last_commit: dee1bb8 git_last_commit_date: 2025-10-29 10:39:04 -0400 (Wed, 29 Oct 2025)