Package: zenith Version: 1.11.0 Command: /Library/Frameworks/R.framework/Resources/bin/R CMD INSTALL zenith StartedAt: 2025-10-24 15:58:25 -0400 (Fri, 24 Oct 2025) EndedAt: 2025-10-24 15:59:14 -0400 (Fri, 24 Oct 2025) EllapsedTime: 48.6 seconds RetCode: 0 Status: OK