Package: zenith Version: 1.11.0 Command: /Library/Frameworks/R.framework/Resources/bin/R CMD INSTALL zenith StartedAt: 2025-09-29 15:31:21 -0400 (Mon, 29 Sep 2025) EndedAt: 2025-09-29 15:31:35 -0400 (Mon, 29 Sep 2025) EllapsedTime: 14.3 seconds RetCode: 0 Status: OK