Package: zenith Version: 1.11.0 Command: /Library/Frameworks/R.framework/Resources/bin/R CMD build --keep-empty-dirs --no-resave-data zenith StartedAt: 2025-09-29 18:03:31 -0400 (Mon, 29 Sep 2025) EndedAt: 2025-09-29 18:04:11 -0400 (Mon, 29 Sep 2025) EllapsedTime: 39.5 seconds RetCode: 0 Status: OK PackageFile: zenith_1.11.0.tar.gz PackageFileSize: 678.3 KiB