Package: zenith Version: 1.11.0 Command: rm -rf zenith.buildbin-libdir && mkdir zenith.buildbin-libdir && /Users/biocbuild/BBS/utils/build-universal.sh zenith_1.11.0.tar.gz /Library/Frameworks/R.framework/Resources/bin/R zenith.buildbin-libdir StartedAt: 2025-09-29 22:56:32 -0400 (Mon, 29 Sep 2025) EndedAt: 2025-09-29 22:56:46 -0400 (Mon, 29 Sep 2025) EllapsedTime: 14.2 seconds RetCode: 0 Status: OK PackageFile: zenith_1.11.0.tgz PackageFileSize: 736.4 KiB