Package: zenith Version: 1.11.0 Maintainer: Gabriel Hoffman MaintainerEmail: gabriel.hoffman at mssm.edu git_url: https://git.bioconductor.org/packages/zenith git_branch: devel git_last_commit: 3dbfcb4 git_last_commit_date: 2025-04-15 12:54:36 -0400 (Tue, 15 Apr 2025)