Package: zellkonverter Version: 1.21.0 Command: /home/biocbuild/bbs-3.23-bioc/R/bin/R CMD INSTALL zellkonverter StartedAt: 2025-11-25 15:22:27 -0500 (Tue, 25 Nov 2025) EndedAt: 2025-11-25 15:22:45 -0500 (Tue, 25 Nov 2025) EllapsedTime: 17.9 seconds RetCode: 0 Status: OK