Package: zellkonverter Version: 1.21.0 Command: /Library/Frameworks/R.framework/Resources/bin/R CMD INSTALL zellkonverter StartedAt: 2025-11-20 15:13:58 -0500 (Thu, 20 Nov 2025) EndedAt: 2025-11-20 15:14:07 -0500 (Thu, 20 Nov 2025) EllapsedTime: 8.3 seconds RetCode: 0 Status: OK