Package: zellkonverter Version: 1.21.0 Command: /Library/Frameworks/R.framework/Resources/bin/R CMD build --keep-empty-dirs --no-resave-data zellkonverter StartedAt: 2025-11-20 18:08:51 -0500 (Thu, 20 Nov 2025) EndedAt: 2025-11-20 18:10:20 -0500 (Thu, 20 Nov 2025) EllapsedTime: 89.6 seconds RetCode: 1 Status: ERROR PackageFile: None PackageFileSize: NA