Package: zFPKM Version: 1.33.0 Command: /Library/Frameworks/R.framework/Resources/bin/R CMD INSTALL zFPKM StartedAt: 2025-11-20 15:39:23 -0500 (Thu, 20 Nov 2025) EndedAt: 2025-11-20 15:39:54 -0500 (Thu, 20 Nov 2025) EllapsedTime: 31.2 seconds RetCode: 0 Status: OK