Package: zFPKM Version: 1.33.0 Command: /Library/Frameworks/R.framework/Resources/bin/R CMD build --keep-empty-dirs --no-resave-data zFPKM StartedAt: 2025-11-20 19:11:29 -0500 (Thu, 20 Nov 2025) EndedAt: 2025-11-20 19:12:20 -0500 (Thu, 20 Nov 2025) EllapsedTime: 50.4 seconds RetCode: 0 Status: OK PackageFile: zFPKM_1.33.0.tar.gz PackageFileSize: 204.4 KiB