Package: zFPKM Version: 1.33.0 Command: rm -rf zFPKM.buildbin-libdir && mkdir zFPKM.buildbin-libdir && /Users/biocbuild/BBS/utils/build-universal.sh zFPKM_1.33.0.tar.gz /Library/Frameworks/R.framework/Resources/bin/R zFPKM.buildbin-libdir StartedAt: 2025-11-21 02:04:01 -0500 (Fri, 21 Nov 2025) EndedAt: 2025-11-21 02:04:29 -0500 (Fri, 21 Nov 2025) EllapsedTime: 28.7 seconds RetCode: 0 Status: OK PackageFile: zFPKM_1.33.0.tgz PackageFileSize: 223.2 KiB