Package: zFPKM Version: 1.31.0 Command: rm -rf zFPKM.buildbin-libdir && mkdir zFPKM.buildbin-libdir && /Users/biocbuild/BBS/utils/build-universal.sh zFPKM_1.31.0.tar.gz /Library/Frameworks/R.framework/Resources/bin/R zFPKM.buildbin-libdir StartedAt: 2025-10-08 23:08:40 -0400 (Wed, 08 Oct 2025) EndedAt: 2025-10-08 23:08:50 -0400 (Wed, 08 Oct 2025) EllapsedTime: 9.4 seconds RetCode: 0 Status: OK PackageFile: zFPKM_1.31.0.tgz PackageFileSize: 224 KiB