Package: yarn Version: 1.37.0 Command: /home/biocbuild/bbs-3.23-bioc/R/bin/R CMD INSTALL yarn StartedAt: 2025-10-31 16:01:00 -0400 (Fri, 31 Oct 2025) EndedAt: 2025-10-31 16:01:49 -0400 (Fri, 31 Oct 2025) EllapsedTime: 48.4 seconds RetCode: 0 Status: OK