Package: yarn Version: 1.37.0 Command: /Library/Frameworks/R.framework/Resources/bin/R CMD INSTALL yarn StartedAt: 2025-11-20 15:24:13 -0500 (Thu, 20 Nov 2025) EndedAt: 2025-11-20 15:24:32 -0500 (Thu, 20 Nov 2025) EllapsedTime: 20.0 seconds RetCode: 0 Status: OK