Package: yarn Version: 1.37.0 Command: /Library/Frameworks/R.framework/Resources/bin/R CMD build --keep-empty-dirs --no-resave-data yarn StartedAt: 2025-11-20 18:08:49 -0500 (Thu, 20 Nov 2025) EndedAt: 2025-11-20 18:09:29 -0500 (Thu, 20 Nov 2025) EllapsedTime: 40.4 seconds RetCode: 0 Status: OK PackageFile: yarn_1.37.0.tar.gz PackageFileSize: 2.973 MiB