Package: yamss Version: 1.37.0 Command: /Library/Frameworks/R.framework/Resources/bin/R CMD INSTALL yamss StartedAt: 2025-11-20 15:11:29 -0500 (Thu, 20 Nov 2025) EndedAt: 2025-11-20 15:11:39 -0500 (Thu, 20 Nov 2025) EllapsedTime: 10.8 seconds RetCode: 0 Status: OK