Package: yamss Version: 1.37.0 Command: /Library/Frameworks/R.framework/Resources/bin/R CMD build --keep-empty-dirs --no-resave-data yamss StartedAt: 2025-11-20 18:08:47 -0500 (Thu, 20 Nov 2025) EndedAt: 2025-11-20 18:09:49 -0500 (Thu, 20 Nov 2025) EllapsedTime: 61.9 seconds RetCode: 0 Status: OK PackageFile: yamss_1.37.0.tar.gz PackageFileSize: 424.6 KiB