Package: yamss Version: 1.37.0 Command: rm -rf yamss.buildbin-libdir && mkdir yamss.buildbin-libdir && /Users/biocbuild/BBS/utils/build-universal.sh yamss_1.37.0.tar.gz /Library/Frameworks/R.framework/Resources/bin/R yamss.buildbin-libdir StartedAt: 2025-11-20 23:57:31 -0500 (Thu, 20 Nov 2025) EndedAt: 2025-11-20 23:57:45 -0500 (Thu, 20 Nov 2025) EllapsedTime: 13.5 seconds RetCode: 0 Status: OK PackageFile: yamss_1.37.0.tgz PackageFileSize: 735.2 KiB