Package: xmapbridge Version: 1.69.0 Command: /home/biocbuild/bbs-3.23-bioc/R/bin/R CMD build --keep-empty-dirs --no-resave-data xmapbridge StartedAt: 2025-10-31 20:53:13 -0400 (Fri, 31 Oct 2025) EndedAt: 2025-10-31 20:53:31 -0400 (Fri, 31 Oct 2025) EllapsedTime: 18.0 seconds RetCode: 0 Status: OK PackageFile: xmapbridge_1.69.0.tar.gz PackageFileSize: 3.019 MiB