Package: xmapbridge Version: 1.67.0 Command: /Library/Frameworks/R.framework/Resources/bin/R CMD INSTALL xmapbridge StartedAt: 2025-10-09 15:04:27 -0400 (Thu, 09 Oct 2025) EndedAt: 2025-10-09 15:05:06 -0400 (Thu, 09 Oct 2025) EllapsedTime: 39.0 seconds RetCode: 0 Status: OK