Package: xmapbridge Version: 1.67.0 Command: rm -rf xmapbridge.buildbin-libdir && mkdir xmapbridge.buildbin-libdir && /Users/biocbuild/BBS/utils/build-universal.sh xmapbridge_1.67.0.tar.gz /Library/Frameworks/R.framework/Resources/bin/R xmapbridge.buildbin-libdir StartedAt: 2025-09-29 22:56:28 -0400 (Mon, 29 Sep 2025) EndedAt: 2025-09-29 22:56:30 -0400 (Mon, 29 Sep 2025) EllapsedTime: 2.1 seconds RetCode: 0 Status: OK PackageFile: xmapbridge_1.67.0.tgz PackageFileSize: 1.763 MiB