Package: xenLite Version: 1.5.0 Command: /home/biocbuild/bbs-3.23-bioc/R/bin/R CMD INSTALL xenLite StartedAt: 2025-11-05 15:43:09 -0500 (Wed, 05 Nov 2025) EndedAt: 2025-11-05 15:43:42 -0500 (Wed, 05 Nov 2025) EllapsedTime: 33.3 seconds RetCode: 0 Status: OK