Package: xenLite Version: 1.5.0 Command: /home/biocbuild/bbs-3.23-bioc/R/bin/R CMD check --install=check:xenLite.install-out.txt --library=/home/biocbuild/bbs-3.23-bioc/R/site-library --timings xenLite_1.5.0.tar.gz StartedAt: 2025-11-07 05:01:35 -0500 (Fri, 07 Nov 2025) EndedAt: 2025-11-07 05:06:33 -0500 (Fri, 07 Nov 2025) EllapsedTime: 298.3 seconds RetCode: 0 Status: OK CheckDir: xenLite.Rcheck Warnings: 0