Package: xcore Version: 1.13.0 Command: /home/biocbuild/R/R/bin/R CMD INSTALL xcore StartedAt: 2025-10-13 20:54:30 -0000 (Mon, 13 Oct 2025) EndedAt: 2025-10-13 20:55:00 -0000 (Mon, 13 Oct 2025) EllapsedTime: 30.2 seconds RetCode: 0 Status: OK