Package: xcore Version: 1.13.0 Command: /home/biocbuild/R/R/bin/R CMD build --keep-empty-dirs --no-resave-data xcore StartedAt: 2025-10-14 04:33:25 -0000 (Tue, 14 Oct 2025) EndedAt: 2025-10-14 04:35:15 -0000 (Tue, 14 Oct 2025) EllapsedTime: 110.0 seconds RetCode: 0 Status: OK PackageFile: xcore_1.13.0.tar.gz PackageFileSize: 2.366 MiB