Package: xcore Version: 1.13.0 Command: chmod a+r xcore -R && F:\biocbuild\bbs-3.22-bioc\R\bin\R.exe CMD build --keep-empty-dirs --no-resave-data xcore StartedAt: 2025-08-15 00:01:28 -0400 (Fri, 15 Aug 2025) EndedAt: 2025-08-15 00:03:43 -0400 (Fri, 15 Aug 2025) EllapsedTime: 134.6 seconds RetCode: 0 Status: OK PackageFile: xcore_1.13.0.tar.gz PackageFileSize: 2.333 MiB