Package: xcore Version: 1.13.0 Command: rm -rf xcore.buildbin-libdir && mkdir xcore.buildbin-libdir && F:\biocbuild\bbs-3.22-bioc\R\bin\R.exe CMD INSTALL --build --library=xcore.buildbin-libdir xcore_1.13.0.tar.gz StartedAt: 2025-08-15 11:36:06 -0400 (Fri, 15 Aug 2025) EndedAt: 2025-08-15 11:36:41 -0400 (Fri, 15 Aug 2025) EllapsedTime: 35.2 seconds RetCode: 0 Status: OK PackageFile: xcore_1.13.0.zip PackageFileSize: 1.84 MiB