Package: xcore Version: 1.13.0 Command: /home/biocbuild/bbs-3.22-bioc/R/bin/R CMD check --install=check:xcore.install-out.txt --library=/home/biocbuild/bbs-3.22-bioc/R/site-library --timings xcore_1.13.0.tar.gz StartedAt: 2025-10-01 05:31:33 -0400 (Wed, 01 Oct 2025) EndedAt: 2025-10-01 05:40:31 -0400 (Wed, 01 Oct 2025) EllapsedTime: 537.4 seconds RetCode: 0 Status: OK CheckDir: xcore.Rcheck Warnings: 0