Package: xcore Version: 1.15.0 Command: /home/biocbuild/bbs-3.23-bioc/R/bin/R CMD INSTALL xcore StartedAt: 2025-11-04 15:19:17 -0500 (Tue, 04 Nov 2025) EndedAt: 2025-11-04 15:19:41 -0500 (Tue, 04 Nov 2025) EllapsedTime: 23.6 seconds RetCode: 0 Status: OK